Workbook

Sheet Planilha1
C4: PREFEITURA MUNICIPAL DE ELÓI MENDES
A5: PLANILHA ORÇAMENTÁRIA
A6: Obra: | D6: PAVIMENTAÇÃO EM BLOQUETE - ESTRADA DA ONÇA
A7: REFEREÊNCIAS: SINAPI 07/2025 SEINFRA: 04/2025 | D7: COM DESONERAÇÃO | F7: BDI (SERVIÇOS): | I7: 0.239
A9: ITEM | B9: CÓDIGO | C9: REFERÊNCIA | D9: DESCRIÇÃO DO SERVIÇO | E9: UNID | F9: QUANT. | G9: PREÇOS (R$)
G10: Custo Unitário | H10: Com BDI | I10: Total
A11: 1 | D11: SERVIÇOS PRELIMINARES
A12: 1.1 | B12: ED-28427 | C12: SEINFRA | D12: FORNECIMENTO E COLOCAÇÃO DE PLACA DE OBRA EM CHAPA GALVANIZADA #26, ESP. 0,45MM, DIMENSÃO (3X1,5)M, PLOTADA COM ADESIVO VINÍLICO, AFIXADA COM REBITES 4,8X40MM, EM ESTRUTURA METÁLICA DE METALON 20X20MM, ESP. 1,25MM, INCLUSIVE SUPORTE EM EUCALIPTO AUTOCLAVADO PINTADO COM TINTA PVA DUAS (2) DEMÃOS | E12: UNID | F12: 1 | G12: 1130.27 | H12: =G12*1.239 -> 1400.4045 | I12: =F12*H12 -> 1400.4045
A13: =G13*1.239 -> 0 | I13: =SUM(I12:I12) -> 1400.4045
A14: 2.0 | D14: DRENAGEM PLUVIAL
A15: 2.1 | B15: ED-49787 | C15: SEINFRA | D15: FORNECIMENTO DE CONCRETO ESTRUTURAL, PREPARADO EM OBRA COM BETONEIRA, COM FCK 25MPA, INCLUSIVE LANÇAMENTO, ADENSAMENTO E ACABAMENTO (FUNDAÇÃO) | E15: M³ | F15: 1.57 | G15: 755.74 | H15: =G15*1.239 -> 936.36186 | I15: =H15*F15 -> 1470.0881
A16: 2.2 | B16: 94274 | C16: SINAPI | D16: ASSENTAMENTO DE GUIA (MEIO-FIO) EM TRECHO CURVO, CONFECCIONADA EM CONCRETO PRÉ-FABRICADO, DIMENSÕES 100X15X13X30 CM (COMPRIMENTO X BASE INFERIOR X BASE SUPERIOR X ALTURA). AF_01/2024 | E16: ML | F16: 419.6 | G16: 66.19 | H16: =G16*1.239 -> 82.00941 | I16: =H16*F16 -> 34411.148
I17: =I15+I16 -> 35881.237
A18: 3.0 | D18: PAVIMENTAÇÃO EM BLOQUETE
A19: 3.1.1 | B19: 92394 | C19: SINAPI | D19: EXECUÇÃO DE PAVIMENTO EM PISO INTERTRAVADO, COM BLOCO SEXTAVADO DE 25 X 25 CM, ESPESSURA 8 CM. AF_10/2022 | E19: M² | F19: 1195.6 | G19: 98.25 | H19: =G19*1.239 -> 121.73175 | I19: =F19*H19 -> 145542.48
A20: 3.1.1 | B20: ED-51107 | C20: SEINFRA | D20: ESCAVAÇÃO MANUAL DE VALA COM PROFUNDIDADE MENOR OU IGUAL A 1,5M, INCLUSIVE DESCARGA LATERAL | E20: M³ | F20: 1.68 | G20: 71.42 | H20: =G20*1.239 -> 88.48938 | I20: =F20*H20 -> 148.66216
A21: 3.1.6 | B21: ED-29231 | C21: SEINFRA | D21: TRANSPORTE DE MATERIAL DE QUALQUER NATUREZA EM CAMINHÃO, DISTÂNCIA MAIOR QUE 2KM E MENOR OU IGUAL A 5KM, DENTRO DO PERÍMETRO URBANO, EXCLUSIVE CARGA, INCLUSIVE DESCARGA | E21: M³ X KM | F21: 472.3 | G21: 2.69 | H21: =G21*1.239 -> 3.33291 | I21: =F21*H21 -> 1574.1334
I22: =I19+I20+I21 -> 147265.28
A24: VALOR TOTAL | I24: =I13+I17+I22 -> 184546.92

Sheet Planilha2
B3: PREFEITURA MUNICIPAL DE ELÓI MENDES
B4: PAVIMENTAÇÃO E DRENAGEM - AVENIDA VEREADOR TÃO LOPES
B5: CRONOGRAMA FÍSICO FINANCEIRO
B6: SETOP: ABR-2025 - SINAPI: JUL-2025 - SUDECAP ABR-2025 | F6: BDI 23,90% (SEM DESONERAÇÃO)
B7: ITEM | C7: SERVIÇOS | D7: VALOR TOTAL | E7: % | F7: MESES
F8: 1
B9: 1 | C9: =Planilha1!D11 -> SERVIÇOS PRELIMINARES | F9: =D10*F11 -> 1400.4045
D10: =Planilha1!I13 -> 1400.4045 | E10: =ROUND((D10/D20),5) -> 0.00759
F11: 1
B12: 2 | C12: =Planilha1!D14 -> DRENAGEM PLUVIAL | F12: =D13*F14 -> 35881.237
D13: =Planilha1!I17 -> 35881.237 | E13: =ROUND((D13/D20),5) -> 0.19443
F14: 1
B15: 3 | C15: =Planilha1!D18 -> PAVIMENTAÇÃO EM BLOQUETE | F15: =D16*F17 -> 147265.28
D16: =Planilha1!I22 -> 147265.28 | E16: =ROUND((D16/D20),5) -> 0.79798
F17: 1
B18: VALOR PARCIAL A FATURAR | F18: =F9+F12+F15 -> 184546.92
B19: PERCENTUAL PARCIAL | F19: =F18/D20 -> 1
B20: VALOR ACUMULADO | D20: =SUM(D10:D17) -> 184546.92 | F20: =F18 -> 184546.92
B21: PERCENTUAL ACUMULADO | D21: =+SUM(E10:E17) -> 1 | F21: =F19 -> 1
