Workbook
Name CONCATENAR: CONCATENATE(ORÇAMENTO!#REF!," ",ORÇAMENTO!$B1)
Name Fonte: #REF!
Name nao: #REF!

Sheet ORÇAMENTO
A2: PLANILHA ORÇAMENTÁRIA DE CUSTOS
A3: OBRA: CONTRATAÇÃO DE EMPRESA PARA EXECUÇÃO DE TAPA BURACO, PAVIMENTAÇÃO ASFÁLTICA, LOMBADA E PINTURA | F3: DATA: | G3: =TODAY() -> 46059
A4: REFERÊNCIA: SINAPI 09/2025 - SETOP 07/2025 | F4: BDI: 24,23%
A5: PRAZO DE EXECUÇÃO: CONFORME PEDIDO
A6: VALOR ESTIMADO DA OBRA: | C6: =G49 -> 3006266.7
A8: ITEM | B8: CÓDIGO | C8: DESCRIÇÃO | D8: UND. | E8: QUANT. | F8: PREÇO UNITÁRIO C/ BDI | G8: PREÇO TOTAL
A9: 1.0 | B9: SERVIÇOS PRELIMINARES
A10: 1.1 | B10: 94296 | C10: TOPOGRAFO COM ENCARGOS COMPLEMENTARES | D10: MÊS | E10: 0.2 | F10: 8572.63 | G10: =ROUND((E10*F10),2) -> 1714.53
A11: 1.2 | B11: ED-50276 | C11: LOCAÇÃO TOPOGRÁFICA ACIMA DE CINQUENTA (50) PONTOS REFERENCIAIS, INCLUSIVE ESTACA (PIQUETE) DE MARCAÇÃO | D11: UNID. | E11: 50 | F11: 42.06 | G11: =ROUND((E11*F11),2) -> 2103
A12: 1.3 | B12: 101457 | C12: TÉCNICO EM SONDAGEM COM ENCARGOS COMPLEMENTARES | D12: MÊS | E12: 0.2 | F12: 5604.69 | G12: =ROUND((E12*F12),2) -> 1120.94
A13: 1.4 | B13: 93565 | C13: ENGENHEIRO CIVIL DE OBRA JUNIOR COM ENCARGOS COMPLEMENTARES | D13: MÊS | E13: 0.2 | F13: 21897.04 | G13: =ROUND((E13*F13),2) -> 4379.41
A14: 1.5 | B14: 100309 | C14: TECNICO EM SEGURANÇA DO TRABALHO COM ENCARGOS COMPLEMENTARES | D14: HORA | E14: 150 | F14: 47.78 | G14: =ROUND((E14*F14),2) -> 7167
A15: 1.6 | B15: 101456 | C15: TECNICO DE LABORATORIO E CAMPO DE CONSTRUÇÃO COM ENCARGOS COMPLEMENTARES | D15: MÊS | E15: 0.2 | F15: 8400.02 | G15: =ROUND((E15*F15),2) -> 1680
A16: TOTAL ITEM | F16: = | G16: =SUM((G10:G15)) -> 18164.88
A17: 2.0 | B17: TAPA BURACO
A18: 2.1 | B18: CMP001 | C18: CORTE MECAN. C/SERRA EM CONCRETO/ASFALTO | D18: M | E18: 750 | F18: 2.23 | G18: =ROUND((E18*F18),2) -> 1672.5
A19: 2.2 | B19: 101810 | C19: EXECUÇÃO DE TAPA BURACO COM APLICAÇÃO DE CONCRETO ASFÁLTICO (USINAGEM PRORPIA) E PINTURA DE LIGAÇÃO | D19: M³ | E19: 112.5 | F19: 1713.23 | G19: =ROUND((E19*F19),2) -> 192738.38
A20: 2.3 | B20: 95877 | C20: TRANSPORTE COM CAMINHÃO BASCULANTE DE 18M³, EM VIA URBANA PAVIMENTADA, DMT ATÉ 30 KM (UNIDADE: M³XKM). AF_07/2020 | D20: M³KM | E20: 3375 | F20: 2.09 | G20: =ROUND((E20*F20),2) -> 7053.75
A21: 2.4 | B21: 95427 | C21: TRANSPORTE COM CAMINHÃO BASCULANTE DE 18 M³, EM VIA URBANA PAVIMENTADA, ADICIONAL PARA DMT EXCEDENTE A 30 KM (UNIDADE: M3XKM). AF_07/2020 | D21: M³KM | E21: 4758.75 | F21: 0.88 | G21: =ROUND((E21*F21),2) -> 4187.7
A22: TOTAL ITEM | F22: = | G22: =SUM((G18:G21)) -> 205652.33
A23: 3.0 | B23: RECAPEAMENTO
A24: 3.1 | B24: RO-51229 | C24: PINTURA DE LIGAÇÃO (EXECUÇÃO E FORNECIMENTO DO MATERIAL BETUMINOSO, EXCLUSIVE TRANSPORTE DO MATERIAL BETUMINOSO) | D24: M² | E24: 14036.7 | F24: 2.1 | G24: =ROUND((E24*F24),2) -> 29477.07
A25: 3.2 | B25: 95996 | C25: EXECUÇÃO DE PAVIMENTO COM APLICAÇÃO DE CONCRETO ASFÁLTICO, CAMADA DE ROLAMENTO - EXCLUSIVE CARGA E TRANSPORTE. AF_11/2019 | D25: M³ | E25: 553.89 | F25: 2139.16 | G25: =ROUND((E25*F25),2) -> 1184859.3
A26: 3.3 | B26: 95877 | C26: TRANSPORTE COM CAMINHÃO BASCULANTE DE 18M³, EM VIA URBANA PAVIMENTADA, DMT ATÉ 30 KM (UNIDADE: M³XKM). AF_07/2020 | D26: M³KM | E26: 16616.7 | F26: 2.09 | G26: =ROUND((E26*F26),2) -> 34728.9
A27: 3.4 | B27: 95427 | C27: TRANSPORTE COM CAMINHÃO BASCULANTE DE 18 M³, EM VIA URBANA PAVIMENTADA, ADICIONAL PARA DMT EXCEDENTE A 30 KM (UNIDADE: M3XKM). AF_07/2020 | D27: M³KM | E27: 23429.55 | F27: 0.88 | G27: =ROUND((E27*F27),2) -> 20618
A28: TOTAL ITEM | F28: = | G28: =SUM((G24:G27)) -> 1269683.3
A29: 4.0 | B29: PAVIMENTAÇÃO ASFÁLTICA
A30: 4.1 | B30: 100576 | C30: REGULARIZAÇÃO E COMPACTAÇÃO DE SUBLEITO DE SOLO PREDOMINANTE ARGILOSO. AF_11/2019 | D30: M² | E30: 10500 | F30: 2.84 | G30: =ROUND((E30*F30),2) -> 29820
A31: 4.2 | B31: 96396 | C31: EXECUÇÃO E COMPACTAÇÃO DE BASE E OU SUB-BASE PARA PAVIMENTAÇÃO DE BRITA GRADUADA SIMPLES - EXCLUSIVE CARGA E TRANSPORTE. AF_11/2019 | D31: M³ | E31: 1050 | F31: 155.76 | G31: =ROUND((E31*F31),2) -> 163548
A32: 4.3 | B32: RO-51229 | C32: PINTURA DE LIGAÇÃO (EXECUÇÃO E FORNECIMENTO DO MATERIAL BETUMINOSO, EXCLUSIVE TRANSPORTE DO MATERIAL BETUMINOSO) | D32: M² | E32: 10500 | F32: 2.1 | G32: =ROUND((E32*F32),2) -> 22050
A33: 4.4 | B33: 95995 | C33: EXECUÇÃO DE PAVIMENTO COM APLICAÇÃO DE CONCRETO ASFÁLTICO, CAMADA DE ROLAMENTO - EXCLUSIVE CARGA E TRANSPORTE. AF_11/2019 | D33: M³ | E33: 420 | F33: 2139.16 | G33: =ROUND((E33*F33),2) -> 898447.2
A34: 4.5 | B34: 95877 | C34: TRANSPORTE COM CAMINHÃO BASCULANTE DE 18M³, EM VIA URBANA PAVIMENTADA, DMT ATÉ 30 KM (UNIDADE: M³XKM). AF_07/2020 | D34: M³KM | E34: 33600 | F34: 2.09 | G34: =ROUND((E34*F34),2) -> 70224
A35: 4.6 | B35: 95427 | C35: TRANSPORTE COM CAMINHÃO BASCULANTE DE 18 M³, EM VIA URBANA PAVIMENTADA, ADICIONAL PARA DMT EXCEDENTE A 30 KM (UNIDADE: M3XKM). AF_07/2020 | D35: M³KM | E35: 47376 | F35: 0.88 | G35: =ROUND((E35*F35),2) -> 41690.88
A36: TOTAL ITEM | F36: = | G36: =SUM((G30:G35)) -> 1225780.1
A37: 5.0 | B37: LOMBADA
A38: 5.1 | B38: RO-51229 | C38: PINTURA DE LIGAÇÃO (EXECUÇÃO E FORNECIMENTO DO MATERIAL BETUMINOSO, EXCLUSIVE TRANSPORTE DO MATERIAL BETUMINOSO) | D38: M² | E38: 269.5 | F38: 2.1 | G38: =ROUND((E38*F38),2) -> 565.95
A39: 5.2 | B39: 95995 | C39: EXECUÇÃO DE PAVIMENTO COM APLICAÇÃO DE CONCRETO ASFÁLTICO, CAMADA DE ROLAMENTO - EXCLUSIVE CARGA E TRANSPORTE. AF_11/2019 | D39: M³ | E39: 53.9 | F39: 2139.16 | G39: =ROUND((E39*F39),2) -> 115300.72
A40: 5.3 | B40: 95877 | C40: TRANSPORTE COM CAMINHÃO BASCULANTE DE 18M³, EM VIA URBANA PAVIMENTADA, DMT ATÉ 30 KM (UNIDADE: M³XKM). AF_07/2020 | D40: M³KM | E40: 1617 | F40: 2.09 | G40: =ROUND((E40*F40),2) -> 3379.53
A41: 5.4 | B41: 95427 | C41: TRANSPORTE COM CAMINHÃO BASCULANTE DE 18 M³, EM VIA URBANA PAVIMENTADA, ADICIONAL PARA DMT EXCEDENTE A 30 KM (UNIDADE: M3XKM). AF_07/2020 | D41: M³KM | E41: 2279.97 | F41: 0.88 | G41: =ROUND((E41*F41),2) -> 2006.37
A42: TOTAL ITEM | F42: = | G42: =SUM((G38:G41)) -> 121252.57
A43: 6 | B43: SINALIZAÇÃO
A44: 6.1 | B44: 5213408 | C44: PINTURA DE FAIXA COM TERMIPLÁSTICO POR ASPERSÃO ESPESSURA DE 1,5MM. | D44: M2 | E44: 3000 | F44: 53.06 | G44: =ROUND((E44*F44),2) -> 159180
A45: 6.2 | B45: RO-41228 | C45: TACHA REFLETIVA TIPO SPTRG, COM CATADIÓPTRICO NAS DUAS FACES (EXECUÇÃO, INCLUINDO FORNECIMENTO, COLOCAÇÃO E TRANSPORTE DE TODOS OS MATERIAS) | D45: UNID. | E45: 150 | F45: 21.26 | G45: =ROUND((E45*F45),2) -> 3189
A46: 6.3 | B46: RO-41228 | C46: TACHÃO REFLETIVO TIPO SPTRG, COM CATADIÓPTRICO NAS DUAS FACES (EXECUÇÃO, INCLUINDO FORNECIMENTO, COLOCAÇÃO E TRANSPORTE DE TODOS OS MATERIAS) | D46: UNID. | E46: 50 | F46: 67.29 | G46: =ROUND((E46*F46),2) -> 3364.5
A47: TOTAL ITEM | F47: = | G47: =SUM((G44:G46)) -> 165733.5
A49: VALOR TOTAL DA OBRA | G49: =G16+G22+G28+G36+G42+G47 -> 3006266.7
A55: ____________________________________ | D55: ____________________________________
A56: LARISSA VITORIA DA SILVA | D56: DANIEL FRANCO DA SILVEIRA
A57: CAU - A 285413-9 | D57: PREFEITO MUNICIPAL

Sheet MEMORIA DE CÁLCULO
D1: PREFEITURA MUNICIPAL DE SENADOR AMARAL Estado de Minas Gerais CNPJ 41.778.556/0001-90 Telefax: (35)3437-1137 E-mail: www.senadoramaral.mg.gov.br
A2: MEMÓRIA DE CÁLCULO
A3: =ORÇAMENTO!A3 -> OBRA: CONTRATAÇÃO DE EMPRESA PARA EXECUÇÃO DE TAPA BURACO, PAVIMENTAÇÃO ASFÁLTICA, LOMBADA E PINTURA | L3: =ORÇAMENTO!F3 -> DATA: | M3: =ORÇAMENTO!G3 -> 46059
A4: =ORÇAMENTO!A5 -> PRAZO DE EXECUÇÃO: CONFORME PEDIDO
A5: =ORÇAMENTO!A6 -> VALOR ESTIMADO DA OBRA: | D5: =ORÇAMENTO!C6 -> 3006266.7
A7: 1.0 | C7: =ORÇAMENTO!B9 -> SERVIÇOS PRELIMINARES
A9: 1.1 | C9: =ORÇAMENTO!C10 -> TOPOGRAFO COM ENCARGOS COMPLEMENTARES | M9: MÊS
B11: QUANT. | D11: = | E11: 0.2 | L11: = | M11: =E11 -> 0.2
E12: QUANT.
B13: TOTAL | L13: = | M13: =M11 -> 0.2
A15: 1.2 | C15: =ORÇAMENTO!C11 -> LOCAÇÃO TOPOGRÁFICA ACIMA DE CINQUENTA (50) PONTOS REFERENCIAIS, INCLUSIVE ESTACA (PIQUETE) DE MARCAÇÃO | M15: UNID.
B17: QUANT. | D17: = | E17: 50 | L17: = | M17: 50
E18: QUANT.
B19: TOTAL | L19: = | M19: =M17 -> 50
A21: 1.3 | C21: =ORÇAMENTO!C12 -> TÉCNICO EM SONDAGEM COM ENCARGOS COMPLEMENTARES | M21: MÊS
B23: QUANT. | D23: = | E23: 0.2 | L23: = | M23: 0.2
E24: QUANT.
B25: TOTAL | L25: = | M25: =M23 -> 0.2
A27: 1.4 | C27: =ORÇAMENTO!C13 -> ENGENHEIRO CIVIL DE OBRA JUNIOR COM ENCARGOS COMPLEMENTARES | M27: MÊS
B29: QUANT. | D29: = | E29: 0.2 | L29: = | M29: 0.3
E30: QUANT.
B31: TOTAL | L31: = | M31: =M29 -> 0.3
A33: 1.5 | C33: =ORÇAMENTO!C14 -> TECNICO EM SEGURANÇA DO TRABALHO COM ENCARGOS COMPLEMENTARES | M33: HORA
B35: QUANT. | D35: = | E35: 150 | L35: = | M35: 150
E36: QUANT.
B37: TOTAL | L37: = | M37: =M35 -> 150
A39: 1.6 | C39: =ORÇAMENTO!C15 -> TECNICO DE LABORATORIO E CAMPO DE CONSTRUÇÃO COM ENCARGOS COMPLEMENTARES | M39: MÊS
B41: QUANT. | D41: = | E41: 0.2 | L41: = | M41: 0.3
E42: QUANT.
B43: TOTAL | L43: = | M43: =M41 -> 0.3
A45: 2 | C45: TAPA BURACO
A47: 2.1 | C47: =ORÇAMENTO!C18 -> CORTE MECAN. C/SERRA EM CONCRETO/ASFALTO | M47: TXKM
B49: QUANT. | D49: = | F49: COMP. | G49: LARG | H49: QUANT.
F50: 2.5 | G50: 1.5 | H50: 200 | L50: = | M50: =F50*G50*H50 -> 750
B52: TOTAL | L52: = | M52: =M50 -> 750
A54: 2.1 | C54: =ORÇAMENTO!C19 -> EXECUÇÃO DE TAPA BURACO COM APLICAÇÃO DE CONCRETO ASFÁLTICO (USINAGEM PRORPIA) E PINTURA DE LIGAÇÃO | M54: TXKM
B56: QUANT. | D56: = | E56: COMP. | F56: LARG | G56: PROF. | H56: QUANT.
E57: 2.5 | F57: 1.5 | G57: 0.05 | H57: 600 | L57: = | M57: =E57*F57*G57*H57 -> 112.5
B59: TOTAL | L59: = | M59: =M57 -> 112.5
A61: 2.2 | C61: =ORÇAMENTO!C20 -> TRANSPORTE COM CAMINHÃO BASCULANTE DE 18M³, EM VIA URBANA PAVIMENTADA, DMT ATÉ 30 KM (UNIDADE: M³XKM). AF_07/2020 | M61: M³KM
B63: COMPR. | C63: = | D63: TAPA BURACO | L63: = | M63: 112.5
K65: TOTAL | L65: = | M65: =M63 -> 112.5
B67: TOTAL | F67: DISTAN. | G67: = | H67: 30 | L67: = | M67: =M65*H67 -> 3375
A69: 2.3 | C69: =ORÇAMENTO!C21 -> TRANSPORTE COM CAMINHÃO BASCULANTE DE 18 M³, EM VIA URBANA PAVIMENTADA, ADICIONAL PARA DMT EXCEDENTE A 30 KM (UNIDADE: M3XKM). AF_07/2020 | M69: M³KM
B71: COMPR. | C71: = | D71: TAPA BURACO | L71: = | M71: 112.5
K73: TOTAL | L73: = | M73: =M71 -> 112.5
B75: TOTAL | F75: DISTAN. | G75: = | H75: 42.3 | L75: = | M75: =M73*H75 -> 4758.75
A77: 3 | C77: RECAPEAMENTO
A79: 3.1 | C79: =ORÇAMENTO!C24 -> PINTURA DE LIGAÇÃO (EXECUÇÃO E FORNECIMENTO DO MATERIAL BETUMINOSO, EXCLUSIVE TRANSPORTE DO MATERIAL BETUMINOSO) | M79: M²
B81: RUA DOS BUENOS | F81: COMP. | G81: LARG
B82: QUANT. | C82: = | F82: 85 | G82: 5.8 | L82: = | M82: =F82*G82 -> 493
B84: RUA DOS BUENOS/BURACO | F84: COMP. | G84: LARG
B85: QUANT. | C85: = | F85: 60 | G85: 2 | L85: = | M85: =F85*G85 -> 120
B87: RUA DOS BUENOS/JOÃO SILVERIO | F87: COMP. | G87: LARG
B88: QUANT. | C88: = | F88: 5.6 | G88: 2 | L88: = | M88: =F88*G88 -> 11.2
B90: RUA ROBERTO REZENDE | F90: COMP. | G90: LARG
B91: QUANT. | C91: = | F91: 22 | G91: 5.6 | L91: = | M91: =F91*G91 -> 123.2
B93: RUA ROBERTO REZENDE/BURACO | F93: COMP. | G93: LARG
B94: QUANT. | C94: = | F94: 22 | G94: 2 | L94: = | M94: =F94*G94 -> 44
B96: RUA VEREADOR JOÃO BORGES | F96: COMP. | G96: LARG
B97: QUANT. | C97: = | F97: 291 | G97: 6.5 | L97: = | M97: =F97*G97 -> 1891.5
B99: RUA JOSÉ F. MOREIRA | F99: COMP. | G99: LARG
B100: QUANT. | C100: = | F100: 198.3 | G100: 6 | L100: = | M100: =F100*G100 -> 1189.8
B102: RUA JUCA BORGES | F102: COMP. | G102: LARG
B103: QUANT. | C103: = | F103: 394 | G103: 6 | L103: = | M103: =F103*G103 -> 2364
B105: RECAPEAMENTO/RUAS | F105: COMP. | G105: LARG
B106: QUANT. | C106: = | F106: 1300 | G106: 6 | L106: = | M106: =F106*G106 -> 7800
B108: TOTAL | L108: = | M108: =M82+M85+M88+M91+M94+M97+M100+M103+M106 -> 14036.7
A110: 3.2 | C110: =ORÇAMENTO!C25 -> EXECUÇÃO DE PAVIMENTO COM APLICAÇÃO DE CONCRETO ASFÁLTICO, CAMADA DE ROLAMENTO - EXCLUSIVE CARGA E TRANSPORTE. AF_11/2019 | M110: TXKM
B112: RUA DOS BUENOS | F112: COMP. | G112: LARG | H112: EXPESSURA
B113: QUANT. | C113: = | F113: 85 | G113: 5.8 | H113: 0.03 | L113: = | M113: =F113*G113*H113 -> 14.79
B115: RUA DOS BUENOS/BURACO | F115: COMP. | G115: LARG | H115: EXPESSURA
B116: QUANT. | C116: = | F116: 60 | G116: 2 | H116: 0.03 | L116: = | M116: =F116*G116*H116 -> 3.6
B118: RUA DOS BUENOS/JOÃO SILVERIO | F118: COMP. | G118: LARG | H118: EXPESSURA
B119: QUANT. | C119: = | F119: 5.6 | G119: 2 | H119: 0.06 | L119: = | M119: =F119*G119*H119 -> 0.672
B121: RUA ROBERTO REZENDE | F121: COMP. | G121: LARG | H121: EXPESSURA
B122: QUANT. | C122: = | F122: 22 | G122: 5.6 | H122: 0.03 | L122: = | M122: =F122*G122*H122 -> 3.696
B124: RUA ROBERTO REZENDE/BURACO | F124: COMP. | G124: LARG | H124: EXPESSURA
B125: QUANT. | C125: = | F125: 22 | G125: 2 | H125: 0.03 | L125: = | M125: =F125*G125*H125 -> 1.32
B127: RUA VEREADOR JOÃO BORGES | F127: COMP. | G127: LARG | H127: EXPESSURA
B128: QUANT. | C128: = | F128: 291 | G128: 6.5 | H128: 0.04 | L128: = | M128: =F128*G128*H128 -> 75.66
B130: RUA JOSÉ F. MOREIRA | F130: COMP. | G130: LARG | H130: EXPESSURA
B131: QUANT. | C131: = | F131: 198.3 | G131: 6 | H131: 0.04 | L131: = | M131: =F131*G131*H131 -> 47.592
B133: RUA JUCA BORGES | F133: COMP. | G133: LARG | H133: EXPESSURA
B134: QUANT. | C134: = | F134: 394 | G134: 6 | H134: 0.04 | L134: = | M134: =F134*G134*H134 -> 94.56
B136: RECAPEAMENTO/RUAS | F136: COMP. | G136: LARG | H136: EXPESSURA
B137: QUANT. | C137: = | F137: 1300 | G137: 6 | H137: 0.04 | L137: = | M137: =F137*G137*H137 -> 312
B139: TOTAL | L139: = | M139: =M113+M116+M119+M122+M125+M128+M131+M134+M137 -> 553.89
A141: 3.3 | C141: =ORÇAMENTO!C26 -> TRANSPORTE COM CAMINHÃO BASCULANTE DE 18M³, EM VIA URBANA PAVIMENTADA, DMT ATÉ 30 KM (UNIDADE: M³XKM). AF_07/2020 | M141: M³KM
B143: TOTAL | L143: = | M143: 553.89
B145: TOTAL | F145: DISTAN. | G145: = | H145: 30 | L145: = | M145: =M143*H145 -> 16616.7
A147: 3.4 | C147: =ORÇAMENTO!C27 -> TRANSPORTE COM CAMINHÃO BASCULANTE DE 18 M³, EM VIA URBANA PAVIMENTADA, ADICIONAL PARA DMT EXCEDENTE A 30 KM (UNIDADE: M3XKM). AF_07/2020 | M147: M³KM
B149: TOTAL | L149: = | M149: 553.89
B151: TOTAL | F151: DISTAN. | G151: = | H151: 42.3 | L151: = | M151: =M149*H151 -> 23429.547
A153: 4 | C153: PAVIMENTAÇÃO ASFÁLTICA
A155: 4.1 | C155: =ORÇAMENTO!C30 -> REGULARIZAÇÃO E COMPACTAÇÃO DE SUBLEITO DE SOLO PREDOMINANTE ARGILOSO. AF_11/2019 | M155: M²
F157: COMPR. | G157: LARG.
B158: QUANT. | C158: = | F158: 1500 | G158: 7 | L158: = | M158: =F158*G158 -> 10500
B160: TOTAL | L160: = | M160: =M158 -> 10500
A162: 4.2 | C162: =ORÇAMENTO!C31 -> EXECUÇÃO E COMPACTAÇÃO DE BASE E OU SUB-BASE PARA PAVIMENTAÇÃO DE BRITA GRADUADA SIMPLES - EXCLUSIVE CARGA E TRANSPORTE. AF_11/2019 | M162: M³
...

Sheet CRONOGRAMA
A1: PREFEITURA MUNICIPAL DE SENADOR AMARAL Estado de Minas Gerais CNPJ 41.778.556/0001-90 Telefax: (35)3437-1137 E-mail: www.senadoramaral.mg.gov.br
A2: CRONOGRAMA FÍSICO-FINANCEIRO
A3: =ORÇAMENTO!A3 -> OBRA: CONTRATAÇÃO DE EMPRESA PARA EXECUÇÃO DE TAPA BURACO, PAVIMENTAÇÃO ASFÁLTICA, LOMBADA E PINTURA
A4: =ORÇAMENTO!A5 -> PRAZO DE EXECUÇÃO: CONFORME PEDIDO | H4: DATA: | I4: =ORÇAMENTO!G3 -> 46059
A5: =ORÇAMENTO!A6 -> VALOR ESTIMADO DA OBRA: | C5: =ORÇAMENTO!C6 -> 3006266.7
A7: ITEM | B7: ETAPAS | C7: FÍSICO / FINANCEIRO | D7: TOTAL ETAPAS | E7: 2026 | G7: 2027 | I7: TOTAL
A8: 1.0 | B8: =ORÇAMENTO!B9 -> SERVIÇOS PRELIMINARES | C8: Físico % | D8: =D9/D21 -> 0.0060423382 | E8: 0.5 | G8: 0.5 | I8: =SUM(E8:J8) -> 1
C9: Financeiro | D9: =ORÇAMENTO!G16 -> 18164.88 | E9: =E8*$D$9 -> 9082.44 | G9: =G8*$D$9 -> 9082.44 | I9: =SUM(E9+G9) -> 18164.88
A10: 2.0 | B10: =ORÇAMENTO!B17 -> TAPA BURACO | C10: Físico % | D10: =D11/D21 -> 0.06840788 | E10: 0.75 | G10: 0.25 | I10: =SUM(E10:J10) -> 1
C11: Financeiro | D11: =ORÇAMENTO!G22 -> 205652.33 | E11: =E10*$D$11 -> 154239.25 | G11: =G10*$D$11 -> 51413.083 | I11: =SUM(E11:H11) -> 205652.33
A12: 3.0 | B12: =ORÇAMENTO!B23 -> RECAPEAMENTO | C12: Físico % | D12: =D13/D21 -> 0.42234553 | E12: 0.75 | G12: 0.25 | I12: =SUM(E12:J12) -> 1
C13: Financeiro | D13: =ORÇAMENTO!G28 -> 1269683.3 | E13: =E12*$D$13 -> 952262.48 | G13: =G12*$D$13 -> 317420.83 | I13: =SUM(E13:H13) -> 1269683.3
A14: 3.0 | B14: =ORÇAMENTO!B29 -> PAVIMENTAÇÃO ASFÁLTICA | C14: Físico % | D14: =D15/D21 -> 0.40774163 | E14: 0.75 | G14: 0.25 | I14: =SUM(E14:J14) -> 1
C15: Financeiro | D15: =ORÇAMENTO!G36 -> 1225780.1 | E15: =E14*$D$15 -> 919335.06 | G15: =G14*$D$15 -> 306445.02 | I15: =SUM(E15:H15) -> 1225780.1
A16: 4.0 | B16: =ORÇAMENTO!B37 -> LOMBADA | C16: Físico % | D16: =D17/D21 -> 0.040333272 | E16: 0.75 | G16: 0.25 | I16: =SUM(E16:J16) -> 1
C17: Financeiro | D17: =ORÇAMENTO!G42 -> 121252.57 | E17: =(E16*D17) -> 90939.427 | G17: =(G16*D17) -> 30313.142 | I17: =SUM(E17:H17) -> 121252.57
A18: 5.0 | B18: =ORÇAMENTO!B43 -> SINALIZAÇÃO | C18: Físico % | D18: =D19/D21 -> 0.055129341 | E18: 0.75 | G18: 0.25 | I18: =SUM(E18:I18) -> 1
C19: Financeiro | D19: =ORÇAMENTO!G47 -> 165733.5 | E19: =E18*$D$19 -> 124300.12 | G19: =G18*$D$19 -> 41433.375 | I19: =SUM(E19:H19) -> 165733.5
A20: TOTAL | C20: Físico % | D20: =D8+D10+D12+D14+D16+D18 -> 1 | E20: =E21/$D$21 -> 0.74848942 | G20: =G21/$D$21 -> 0.25151058 | I20: =SUM(E20:H20) -> 1
C21: Financeiro | D21: =(D9+D11+D13+D15+D17+D19) -> 3006266.7 | E21: =(E9+E11+E13+E15+E17+E19) -> 2250158.8 | G21: =(G9+G11+G13+G15+G17+G19) -> 756107.88 | I21: =ROUND(SUM(E21:H21),2) -> 3006266.7
A25: ____________________________________ | F25: ____________________________________
A26: LARISSA VITORIA DA SILVA | F26: DANIEL FRANCO DA SILVEIRA
A27: CAU - A 285413-9 | F27: PREFEITO MUNICIPAL
