Workbook

Sheet PLANILHA ORÇAMENTÁRIA 
A1: PREFEITURA MUNICIPAL DE SENADOR AMARAL Estado de Minas Gerais CNPJ 41.778.556/0001-90 Telefax: (35)3437-1137 E-mail: www.senadoramaral.mg.gov.br
A5: PLANILHA ORÇAMENTÁRIA DE CUSTOS
A7: PREFEITURA: PREFEITURA DO MUNICÍPIO DE SENADOR AMARAL | H7: FOLHA N°: 01/01
A8: OBRA: MELHORAMENTO DE ESTRADA VICINAL DO MUNICÍPIO | H8: DATA: | I8: =TODAY() -> 46037
A9: LOCAL: ESTRADA VICINAL DO BAIRRO DA LAGOINHA - SENADOR AMARAL - MG | H9: FORMA DE EXECUÇÃO:
A10: REGIÃO / MÊS / REFERÊNCIA: SETOP 10/2025 - SINAPI - 12/2025 S/ DESON. | G10: ( ) DIRETA | I10: ( X ) INDIRETA
F11: % ISS MUNICIPAL: | G11: 0.05 | H11: BDI (%) | I11: 24,49%
A12: ITEM | B12: FORMA EXECUÇÃO | C12: CÓDIGO | D12: DESCRIÇÃO | F12: QTDADE | G12: UNID. | H12: PREÇO UNITÁRIO S/ BDI | I12: PREÇO UNIT. COM BDI | J12: TOTAL COM BDI
A13: 1 | B13: INSTALAÇÕES INICIAIS DA OBRA
A14: 1.1 | B14: INDIRETA | C14: ED-28427 | D14: FORNECIMENTO E COLOCAÇÃO DE PLACA DE OBRA EM CHAPA GALVANIZADA (3,00 X 1,5 0 M) - EM CHAPA GALVANIZADA 0,26 AFIXADAS COM REBITES 540 E PARAFUSOS 3/8, EM ESTRUTURA METÁLICA VIGA U 2" ENRIJECIDA COM METALON 20 X 20, SUPORTE EM EUCALIPTO AUTOCLAVADO PINTADAS | F14: ='MEMÓRIA DE CALCULO'!I15 -> 1 | G14: UNID. | H14: 1179.41 | I14: =ROUND((H14*1.2449),2) -> 1468.25 | J14: =ROUND((F14*I14),2) -> 1468.25
A15: TOTAL DE ITEM 1: | I15: =J14 -> 1468.25
A16: 2 | B16: OBRAS VIÁRIAS
A17: 2.1 | B17: INDIRETA | C17: 92404 | D17: EXECUÇÃO DE VIA EM PISO INTERTRAVADO, COM BLOCO 16 FACES DE 22 X 11 CM, ESPESSURA 8 CM. AF_12/2015 | F17: ='MEMÓRIA DE CALCULO'!I25 -> 700.34 | G17: M² | H17: 92.36 | I17: =ROUND((H17*1.2449),2) -> 114.98 | J17: =ROUND((F17*I17),2) -> 80525.09
A18: 2.2 | B18: INDIRETA | C18: 95875 | D18: TRANSPORTE COM CAMINHÃO BASCULANTE DE 10 M³, EM VIA URBANA PAVIMENTADA, DMT ATÉ 30 KM (UNIDADE: M3XKM). AF_07/2020 - TRANSPORTE DA AREIA | F18: ='MEMÓRIA DE CALCULO'!I33 -> 840.408 | G18: M3KM | H18: 2.53 | I18: =ROUND((H18*1.2449),2) -> 3.15 | J18: =ROUND((F18*I18),2) -> 2647.29
A19: TOTAL DE ITEM 2: | I19: =SUM(J17+J18) -> 83172.38
A20: TOTAL GERAL DA PLANILHA | J20: =SUM(I15+I19) -> 84640.63
A22: TOTAL: OITENTA E QUATRO MIL, SEISCENTOS E QUARENTA REAIS E SESSENTA E TRÊS CENTAVOS
A27: _______________________________________________________
A28: LARISSA VITORIA DA SILVA | F28: _______________________________________________________
A29: CREA/CAU - A.285413-9 | F29: DANIEL FRANCO DA SILVEIRA
A30: RESPONSÁVEL TÉCNICO | F30: PREFEITO MUNICIPAL

Sheet MEMÓRIA DE CALCULO
A1: PREFEITURA MUNICIPAL DE SENADOR AMARAL Estado de Minas Gerais CNPJ 41.778.556/0001-90 Telefax: (35)3437-1137 E-mail: www.senadoramaral.mg.gov.br
A5: MEMÓRIA DE CÁLCULO
A7: PREFEITURA: PREFEITURA DO MUNICÍPIO DE SENADOR AMARAL | H7: FOLHA N°: 01/01
A8: OBRA: MELHORAMENTO DE ESTRADA VICINAL DO MUNICÍPIO | H8: DATA: | I8: =TODAY() -> 46037
A9: LOCAL: ESTRADA VICINAL DO BAIRRO DA LAGOINHA - SENADOR AMARAL - MG
A11: 1.0 | B11: ='PLANILHA ORÇAMENTÁRIA '!B13 -> INSTALAÇÕES INICIAIS DA OBRA
A13: 1.1 | B13: ='PLANILHA ORÇAMENTÁRIA '!D14 -> FORNECIMENTO E COLOCAÇÃO DE PLACA DE OBRA EM CHAPA GALVANIZADA (3,00 X 1,5 0 M) - EM CHAPA GALVANIZADA 0,26 AFIXADAS COM REBITES 540 E PARAFUSOS 3/8, EM ESTRUTURA METÁLICA VIGA U 2" ENRIJECIDA COM METALON 20 X 20, SUPORTE EM EUCALIPTO AUTOCLAVADO PINTADAS
B15: QUANTIDADE | I15: 1 | J15: UNID
A17: 2.0 | B17: ='PLANILHA ORÇAMENTÁRIA '!B16 -> OBRAS VIÁRIAS
A19: 2.1 | B19: ='PLANILHA ORÇAMENTÁRIA '!D17 -> EXECUÇÃO DE VIA EM PISO INTERTRAVADO, COM BLOCO 16 FACES DE 22 X 11 CM, ESPESSURA 8 CM. AF_12/2015
G21: COMPR. | H21: LARGURA | I21: TOTAL | J21: UNID
A22: TRECHO 01 | I22: 64.34 | J22: M2
A23: TRECHO 02 | G23: 106 | H23: 6 | I23: =(G23*H23) -> 636 | J23: M2
B25: QUANTIDADE | I25: =SUM(I22:I23) -> 700.34 | J25: M2
A27: 2.2 | B27: ='PLANILHA ORÇAMENTÁRIA '!D18 -> TRANSPORTE COM CAMINHÃO BASCULANTE DE 10 M³, EM VIA URBANA PAVIMENTADA, DMT ATÉ 30 KM (UNIDADE: M3XKM). AF_07/2020 - TRANSPORTE DA AREIA
G29: ÁREA | H29: EXPESSURA | I29: TOTAL | J29: UNID
G30: =I25 -> 700.34 | H30: 0.06 | I30: =(G30*H30) -> 42.0204 | J30: M3
I31: 20 | J31: KM
B33: QUANTIDADE | I33: =I30*I31 -> 840.408 | J33: M3/KM
A39: _______________________________________________________
A40: LARISSA VITORIA DA SILVA | F40: _______________________________________________________
A41: CREA/CAU - A.285413-9 | F41: DANIEL FRANCO DA SILVEIRA
A42: RESPONSÁVEL TÉCNICO | F42: PREFEITO MUNICIPAL

Sheet CRONOGRAMA 
A1: PREFEITURA MUNICIPAL DE SENADOR AMARAL Estado de Minas Gerais CNPJ 41.778.556/0001-90 Telefax: (35)3437-1137 E-mail: www.senadoramaral.mg.gov.br
A5: CRONOGRAMA FÍSICO - FINANCAIRO
A7: PREFEITURA: PREFEITURA DO MUNICÍPIO DE SENADOR AMARAL | H7: DATA: | I7: =TODAY() -> 46037
A8: OBRA: MELHORAMENTO DE ESTRADA VICINAL DO MUNICÍPIO | H8: VALOR: | I8: ='PLANILHA ORÇAMENTÁRIA '!J20 -> 84640.63
A9: LOCAL: ESTRADA VICINAL DO BAIRRO DA LAGOINHA - SENADOR AMARAL - MG
A11: ITEM | B11: CÓDIGO | C11: ETAPAS/DESCRIÇÃO | D11: FÍSICO/ FINANCEIRO | E11: TOTAL ETAPAS | F11: MÊS 1 | G11: MÊS 2 | H11: MÊS 3
A12: 1 | B12: IIO | C12: ='PLANILHA ORÇAMENTÁRIA '!B13 -> INSTALAÇÕES INICIAIS DA OBRA | D12: Físico % | E12: =E13/E17 -> 0.01734687 | F12: 1
D13: Financeiro | E13: ='PLANILHA ORÇAMENTÁRIA '!I15 -> 1468.25 | F13: =F12*E13 -> 1468.25
A14: 2 | B14: OBR | C14: ='PLANILHA ORÇAMENTÁRIA '!B16 -> OBRAS VIÁRIAS | D14: Físico % | E14: =E15/E17 -> 0.98265313 | F14: 0.3 | G14: 0.3 | H14: 0.4
D15: Financeiro | E15: ='PLANILHA ORÇAMENTÁRIA '!I19 -> 83172.38 | F15: =(F14*E15) -> 24951.714 | G15: =(G14*E15) -> 24951.714 | H15: =(H14*E15) -> 33268.952
A16: TOTAL | D16: Físico % | E16: =(E12+E14) -> 1 | F16: =(F17/E17) -> 0.31214281 | G16: =(G17/E17) -> 0.29479594 | H16: =(H17/E17) -> 0.39306125
D17: Financeiro | E17: =(E13+E15) -> 84640.63 | F17: =(F13+F15) -> 26419.964 | G17: =(G13+G15) -> 24951.714 | H17: =(H13+H15) -> 33268.952
A21: _______________________________________________________
A22: LARISSA VITORIA DA SILVA | F22: _______________________________________________________
A23: CREA/CAU - A.285413-9 | F23: DANIEL FRANCO DA SILVEIRA
A24: RESPONSÁVEL TÉCNICO | F24: PREFEITO MUNICIPAL
