Workbook

Sheet PLANILHA
B2: PLANILHA DE COMPOSIÇÃO DE CUSTOS
B3: Obra: | C3: Construção de Gavetas Funerárias e Muro Frontal ( Etapa 01) | K3: BDI | N3: 0.2247 | O3: 1.2247
B4: Local: | C4: Nova ala do Cemitério Municipal | K4: Fontes de Preços | M4: SINAPI 02/2026
B5: Obs.: | C5: BDI (CONFORME ACÓRDÃO Nº 2622/13 e LEI Nº 13.161 DE 31/08/15) | M5: SICOR 01/2026
K6: Obs.: | L6: Fontes de preço sem desoneração
B8: 1 | C8: SERVIÇOS PRELIMINARES
B9: ITEM | C9: CÓDIGO | D9: DESCRIÇÃO DO ITEM | J9: QUANTIDADE | K9: UNIDADE | L9: VALOR UNIT. S/ BDI | M9: VALOR UNIT. C/BDI | N9: VALOR TOTAL
B10: 1.1 | C10: ED-16660 | D10: FORNECIMENTO E COLOCAÇÃO DE PLACA DE OBRA EM CHAPA GALVANIZADA #26, ESP. 0,45 MM, PLOTADA COM ADESIVO VINÍLICO, AFIXADA COM REBITES 4,8X40 MM, EM ESTRUTURA METÁLICA DE METALON 20X20 MM, ESP. 1,25 MM, INCLUSIVE SUPORTE EM EUCALIPTO AUTOCLAVADO PINTADO COM TINTA PVA DUAS (2) DEMÃOS | J10: 4.5 | K10: M² | L10: 268.16 | M10: =ROUND((L10*$O$3),2) -> 328.42 | N10: =ROUND(J10*M10,2) -> 1477.89
B11: 1.2 | C11: ED-50135 | D11: BARRACÃO DE OBRA, EM CHAPA DE COMPENSADO RESINADO, INCLUSIVE INSTALAÇÕES SANITÁRIAS E MOBILIÁRIO - PADRÃO DER-MG | J11: =('MEMORIA CALCULO'!H11) -> 8 | K11: M² | L11: 710.2 | M11: =ROUND(L11*$O$3,2) -> 869.78 | N11: =ROUND(J11*M11,2) -> 6958.24
B12: 1.3 | C12: ED-17989 | D12: LOCAÇÃO DE OBRA COM GABARITO DE TÁBUAS CORRIDAS PONTALETADAS A CADA 2,00M, REAPROVEITAMENTO (2X), INCLUSIVE ACOMPANHAMENTO DE EQUIPE TOPOGRÁFICA PARA MARCAÇÃO DE PONTO TOPOGRÁFICO | J12: =('MEMORIA CALCULO'!H29) -> 138.75 | K12: M | L12: 34.8 | M12: =ROUND(L12*$O$3,2) -> 42.62 | N12: =ROUND(J12*M12,2) -> 5913.53
J13: VALOR TOTAL DO ITEM | N13: =SUM(N10:N12) -> 14349.66
B14: 2 | C14: INFRAESTRUTURA
B15: 2.1 | C15: ED-51108 | D15: ESCAVAÇÃO MANUAL DE VALA COM PROFUNDIDADE MAIOR QUE 1,5M E MENOR OU IGUAL 3,0M | J15: =('MEMORIA CALCULO'!H43) -> 10.40635 | K15: M³ | L15: 2.61 | M15: =ROUND(L15*$O$3,2) -> 3.2 | N15: =ROUND(J15*M15,2) -> 33.3
B16: 2.2 | C16: ED-49810 | D16: FORMA E DESFORMA DE TÁBUA E SARRAFO, REAPROVEITAMENTO (3X) (FUNDAÇÃO) | J16: =('MEMORIA CALCULO'!H52) -> 46.89 | K16: M² | L16: 83.88 | M16: =ROUND(L16*$O$3,2) -> 102.73 | N16: =ROUND(J16*M16,2) -> 4817.01
B17: 2.3 | C17: ED-49813 | D17: LASTRO DE BRITA COM PEDRA BRITADA NÚMERO 2 E 3, INCLUSIVE ADENSAMENTO E APILOAMENTO MANUAL | J17: =('MEMORIA CALCULO'!H61) -> 1.911 | K17: M³ | L17: 215.25 | M17: =ROUND(L17*$O$3,2) -> 263.62 | N17: =ROUND(J17*M17,2) -> 503.78
B18: 2.4 | C18: ED-49805 | D18: FORNECIMENTO DE CONCRETO ESTRUTURAL, USINADO BOMBEADO, COM FCK 25 MPA, INCLUSIVE LANÇAMENTO, ADENSAMENTO E ACABAMENTO (FUNDAÇÃO) | J18: =('MEMORIA CALCULO'!H72) -> 6.9576 | K18: M³ | L18: 684.09 | M18: =ROUND(L18*$O$3,2) -> 837.81 | N18: =ROUND(J18*M18,2) -> 5829.15
B19: 2.5 | C19: ED-48297 | D19: CORTE, DOBRA E MONTAGEM DE AÇO CA-60 DIÂMETRO (4,2MM A 5,0MM) | J19: =('MEMORIA CALCULO'!H78) -> 53.83728 | K19: KG | L19: 14.6 | M19: =ROUND(L19*$O$3,2) -> 17.88 | N19: =ROUND(J19*M19,2) -> 962.61
B20: 2.6 | C20: ED-48295 | D20: CORTE, DOBRA E MONTAGEM DE AÇO CA-50 DIÂMETRO (6,3MM A 12,5MM) | J20: =('MEMORIA CALCULO'!H91) -> 182.5304 | K20: KG | L20: 13.84 | M20: =ROUND(L20*$O$3,2) -> 16.95 | N20: =ROUND(J20*M20,2) -> 3093.89
B21: 2.7 | C21: ED-50174 | D21: PINTURA COM EMULSÃO ASFÁLTICA, DUAS (2) DEMÃOS | J21: =('MEMORIA CALCULO'!H101) -> 51.09 | K21: M² | L21: 20.33 | M21: =ROUND(L21*$O$3,2) -> 24.9 | N21: =ROUND(J21*M21,2) -> 1272.14
B22: 2.8 | C22: 42408 | D22: LONA PLASTICA EXTRA FORTE PRETA, E = 200 MICRA | J22: =('MEMORIA CALCULO'!H106) -> 82.8 | K22: M² | L22: 2.74 | M22: =ROUND(L22*$O$3,2) -> 3.36 | N22: =ROUND(J22*M22,2) -> 278.21
B23: 2.9 | C23: ED-51120 | D23: REATERRO MANUAL DE VALA, INCLUSIVE ESPALHAMENTO E COMPACTAÇÃO MANUAL COM SOQUETE | J23: =('MEMORIA CALCULO'!H111) -> 1.53775 | K23: M³ | L23: 84.9 | M23: =ROUND(L23*$O$3,2) -> 103.98 | N23: =ROUND(J23*M23,2) -> 159.9
J24: VALOR TOTAL DO ITEM | N24: =SUM(N15:N23) -> 16949.99
B26: 3 | C26: SUPERESTRUTURA
B27: ITEM | C27: CÓDIGO | D27: DESCRIÇÃO DO ITEM | J27: QUANTIDADE | K27: UNIDADE | L27: VALOR UNIT. S/ BDI | M27: VALOR UNIT. C/BDI | N27: VALOR TOTAL
B28: 3.1 | C28: 103760 | D28: MONTAGEM E DESMONTAGEM DE FÔRMA DE LAJE MACIÇA, PÉ-DIREITO SIMPLES, EM CHAPA DE MADEIRA COMPENSADA RESINADA E CIMBRAMENTO DE MADEIRA, 2 UTILIZAÇÕES. AF_03/2022 | J28: =('MEMORIA CALCULO'!H120) -> 62.1 | K28: M² | L28: 138.6 | M28: =ROUND(L28*$O$3,2) -> 169.74 | N28: =ROUND(J28*M28,2) -> 10540.85
B29: 3.2 | C29: ED-49810 | D29: FORMA E DESFORMA DE TÁBUA E SARRAFO, REAPROVEITAMENTO | J29: =('MEMORIA CALCULO'!H134) -> 25.23 | K29: M² | L29: 83.88 | M29: =ROUND(L29*$O$3,2) -> 102.73 | N29: =ROUND(J29*M29,2) -> 2591.88
B30: 3.3 | C30: ED-49805 | D30: FORNECIMENTO DE CONCRETO ESTRUTURAL, USINADO BOMBEADO, COM FCK 25 MPA, INCLUSIVE LANÇAMENTO, ADENSAMENTO E ACABAMENTO (FUNDAÇÃO) | J30: =('MEMORIA CALCULO'!H147) -> 0.55 | K30: M³ | L30: 684.09 | M30: =ROUND(L30*$O$3,2) -> 837.81 | N30: =ROUND(J30*M30,2) -> 460.8
B31: 3.4 | C31: ED-48297 | D31: CORTE, DOBRA E MONTAGEM DE AÇO CA-60 DIÂMETRO (4,2MM A 5,0MM) | J31: =('MEMORIA CALCULO'!H175) -> 63.907947 | K31: KG | L31: 14.6 | M31: =ROUND(L31*$O$3,2) -> 17.88 | N31: =ROUND(J31*M31,2) -> 1142.67
B32: 3.5 | C32: ED-48295 | D32: CORTE, DOBRA E MONTAGEM DE AÇO CA-50 DIÂMETRO (6,3MM A 12,5MM) | J32: =('MEMORIA CALCULO'!H187) -> 201.1776 | K32: KG | L32: 13.84 | M32: =ROUND(L32*$O$3,2) -> 16.95 | N32: =ROUND(J32*M32,2) -> 3409.96
B33: 3.6 | C33: ED-29582 | D33: ARMADURA DE TELA DE AÇO CA-60, SOLDADA TIPO Q-138, DIÂMETRO Ø4,2MM, TRAMA COM DIMENSÃO (100X100)MM, INCLUSIVE ESPAÇADOR, EXCLUSIVE CONCRETO | J33: =('MEMORIA CALCULO'!H192) -> 82.8 | K33: M² | L33: 30.36 | M33: =ROUND(L33*$O$3,2) -> 37.18 | N33: =ROUND(J33*M33,2) -> 3078.5
B34: 3.7 | C34: ED-50844 | D34: CINTA DE CONCRETO ARMADO (10 x 10 CM) 20 MPa, INCLUSIVE FORMA E AÇO, | J34: =('MEMORIA CALCULO'!H200) -> 1.224 | K34: M³ | L34: 2331.27 | M34: =ROUND(L34*$O$3,2) -> 2855.11 | N34: =ROUND(J34*M34,2) -> 3494.65
J36: VALOR TOTAL DO ITEM | N36: =SUM(N28:N35) -> 24719.31
B38: 4 | C38: ALVENARIAS
B39: ITEM | C39: CÓDIGO | D39: DESCRIÇÃO DO ITEM | J39: QUANTIDADE | K39: UNIDADE | L39: VALOR UNIT. S/ BDI | M39: VALOR UNIT. C/BDI | N39: VALOR TOTAL
B40: 4.1 | C40: ED-48228 | D40: ALVENARIA DE VEDAÇÃO COM TIJOLO MACIÇO REQUEIMADO, ESP. 20CM, PARA REVESTIMENTO, INCLUSIVE ARGAMASSA PARA ASSENTAMENTO | J40: =('MEMORIA CALCULO'!H210) -> 32.25 | K40: M² | L40: 268.48 | M40: =ROUND(L40*$O$3,2) -> 328.81 | N40: =ROUND(J40*M40,2) -> 10604.12
B41: 4.2 | C41: ED-48227 | D41: ALVENARIA DE VEDAÇÃO COM TIJOLO MACIÇO REQUEIMADO, ESP. 10CM, PARA REVESTIMENTO, INCLUSIVE ARGAMASSA PARA ASSENTAMENTO | J41: =('MEMORIA CALCULO'!H214) -> 37.5 | K41: M² | L41: 151.85 | M41: =ROUND(L41*$O$3,2) -> 185.97 | N41: =ROUND(J41*M41,2) -> 6973.88
B42: 4.3 | C42: ED-48196 | D42: ALVENARIA DE VEDAÇÃO COM BLOCO DE CONCRETO, ESP. 19CM, PARA REVESTIMENTO, INCLUSIVE ARGAMASSA PARA ASSENTAMENTO | J42: =('MEMORIA CALCULO'!H218) -> 71.91 | K42: M² | L42: 94.64 | M42: =ROUND(L42*$O$3,2) -> 115.91 | N42: =ROUND(J42*M42,2) -> 8335.09
B43: 4.4 | C43: ED-48214 | D43: ALVENARIA DE BLOCO DE CONCRETO CHEIO COM ARMAÇÃO, EM CONCRETO COM FCK 15MPA , ESP. 19CM, PARA REVESTIMENTO, INCLUSIVE ARGAMASSA PARA ASSENTAMENTO (DETALHE D -CADERNO SEDS) | J43: =('MEMORIA CALCULO'!H223) -> 7.99 | K43: M² | L43: 287.31 | M43: =ROUND(L43*$O$3,2) -> 351.87 | N43: =ROUND(J43*M43,2) -> 2811.44
J45: VALOR TOTAL DO ITEM | N45: =SUM(N40:N44) -> 28724.53
B47: 5 | C47: REVESTIMENTOS
...

Sheet MEMORIA CALCULO
A3: 1 | B3: =(PLANILHA!C8) -> SERVIÇOS PRELIMINARES
A5: 1.1 | B5: =(PLANILHA!D10) -> FORNECIMENTO E COLOCAÇÃO DE PLACA DE OBRA EM CHAPA GALVANIZADA #26, ESP. 0,45 MM, PLOTADA COM ADESIVO VINÍLICO, AFIXADA COM REBITES 4,8X40 MM, EM ESTRUTURA METÁLICA DE METALON 20X20 MM, ESP. 1,25 MM, INCLUSIVE SUPORTE EM EUCALIPTO AUTOCLAVADO PINTADO COM TINTA PVA DUAS (2) DEMÃOS
E7: QUAND. | F7: 3 | G7: 1.5 | H7: =(F7*G7) -> 4.5 | I7: M2
A9: 1.2 | B9: =(PLANILHA!D11) -> BARRACÃO DE OBRA, EM CHAPA DE COMPENSADO RESINADO, INCLUSIVE INSTALAÇÕES SANITÁRIAS E MOBILIÁRIO - PADRÃO DER-MG
F10: COMP. | G10: LARG | H10: TOTAL | I10: UNID
F11: 4 | G11: 2 | H11: =(F11*G11) -> 8 | I11: M²
A13: 1.3 | B13: =(PLANILHA!D12) -> LOCAÇÃO DE OBRA COM GABARITO DE TÁBUAS CORRIDAS PONTALETADAS A CADA 2,00M, REAPROVEITAMENTO (2X), INCLUSIVE ACOMPANHAMENTO DE EQUIPE TOPOGRÁFICA PARA MARCAÇÃO DE PONTO TOPOGRÁFICO
F14: QUANT. | G14: COMP. | H14: TOTAL | I14: UNID
A15: MÓDULO 01 | F15: 2 | G15: 6.9 | H15: =(F15*G15) -> 13.8 | I15: M
F16: 7 | G16: 3 | H16: =(F16*G16) -> 21 | I16: M
A17: CORREDORES E MURO FRONTAL | F17: 1 | G17: 39.95 | H17: =(F17*G17) -> 39.95 | I17: M
F18: 1 | G18: 21.2 | H18: =(F18*G18) -> 21.2 | I18: M
F19: 1 | G19: 3.3 | H19: =(F19*G19) -> 3.3 | I19: M
F20: 1 | G20: 1.1 | H20: =(F20*G20) -> 1.1 | I20: M
F21: 1 | G21: 8.2 | H21: =(F21*G21) -> 8.2 | I21: M
F22: 1 | G22: 2.9 | H22: =(F22*G22) -> 2.9 | I22: M
F23: 1 | G23: 7.9 | H23: =(F23*G23) -> 7.9 | I23: M
F24: 1 | G24: 19.4 | H24: =(F24*G24) -> 19.4 | I24: M
I25: M
I26: M
A29: TOTAL | H29: =SUM(H15:H28) -> 138.75 | I29: M
A31: 2 | B31: =(PLANILHA!C14) -> INFRAESTRUTURA
A33: 2.1 | B33: =(PLANILHA!D15) -> ESCAVAÇÃO MANUAL DE VALA COM PROFUNDIDADE MAIOR QUE 1,5M E MENOR OU IGUAL 3,0M
D35: QUANT. | E35: COMP. | F35: LARG. | G35: ALT. | H35: TOTAL | I35: UNID
A36: BALDRAME MÓDULO 01 | D36: 2 | E36: 6.9 | F36: 0.3 | G36: 0.35 | H36: =(D36*E36*F36*G36) -> 1.449 | I36: M3
D37: 7 | E37: 3 | F37: 0.3 | G37: 0.35 | H37: =(D37*E37*F37*G37) -> 2.205 | I37: M3
A38: BALDRAME MURO | D38: 1 | E38: 39.95 | F38: 0.3 | G38: 0.35 | H38: =(D38*E38*F38*G38) -> 4.19475 | I38: M3
A39: BLOCOS MÓDULO 01 | D39: 6 | E39: 0.5 | F39: 0.5 | G39: 0.35 | H39: =(D39*E39*F39*G39) -> 0.525 | I39: M3
A40: BLOCOS MURO | D40: 20 | E40: 0.5 | F40: 0.5 | G40: 0.35 | H40: =(D40*E40*F40*G40) -> 1.75 | I40: M3
A41: ESTACAS GAVETA | C41: D=0,20 | D41: 6 | F41: 0.0314 | G41: 1.5 | H41: =(D41*F41*G41) -> 0.2826 | I41: M3
A42: ESTACAS MURO | C42: D=0,20 | D42: 20 | F42: 0.03 | G42: 1.5 | H42: =(D42*F42*G42) -> 0.9 | I42: M3
A43: TOTAL | H43: =SUM(H36:H41) -> 10.40635 | I43: M3
A45: 2.2 | B45: =(PLANILHA!D16) -> FORMA E DESFORMA DE TÁBUA E SARRAFO, REAPROVEITAMENTO (3X) (FUNDAÇÃO)
D46: QUANT. | E46: COMP. | G46: ALT. | H46: TOTAL | I46: UNID
A47: BALDRAME MÓDULO 01 | D47: 2 | E47: 6.9 | G47: 0.3 | H47: =(D47*E47*G47) -> 4.14 | I47: M2
D48: 7 | E48: 3 | G48: 0.3 | H48: =(D48*E48*G48) -> 6.3 | I48: M2
A49: BALDRAME MURO | D49: 2 | E49: 39.95 | G49: 0.3 | H49: =(D49*E49*G49) -> 23.97 | I49: M2
A50: BLOCOS MÓDULO 01 | D50: 24 | E50: 0.4 | G50: 0.3 | H50: =(D50*E50*G50) -> 2.88 | I50: M2
A51: BLOCOS MURO | D51: 80 | E51: 0.4 | G51: 0.3 | H51: =(D51*E51*G51) -> 9.6 | I51: M2
A52: TOTAL | H52: =SUM(H47:H51) -> 46.89 | I52: M2
...

Sheet CRONOGRAMA
A1: PREFEITURA MUNICIPAL DE SENADOR AMARAL Estado de Minas Gerais CNPJ 41.778.556/0001-90 Telefax: (35)3437-1137 E-mail: www.senadoramaral.mg.gov.br
A4: CRONOGRAMA FÍSICO-FINANCEIRO
A6: OBRA | B6: =(PLANILHA!C3) -> Construção de Gavetas Funerárias e Muro Frontal ( Etapa 01) | E6: END.: R. TONICO DA CUNHA, CENTRO, SENADOR AMARAL - MG | J6: DATA | K6: 46127
A7: LOCAL | B7: =(PLANILHA!C4) -> Nova ala do Cemitério Municipal | E7: PRAZO DA OBRA: 5 MESES | H7: V. TOTAL = | J7: =(D27) -> 146865.49
A8: ITEM | B8: CÓDIGO | C8: ETAPAS/DESCRIÇÃO | D8: VALOR (R$) | E8: % ITEM | F8: 1 | G8: 2 | H8: 3 | I8: 4 | J8: 5 | K8: 6 | L8: 7
A10: 1 | C10: SERVIÇOS PRELIMINARES | E10: =(D11/D27) -> 0.097706139 | F10: 1
D11: =(PLANILHA!N13) -> 14349.66 | F11: =(F10*D11) -> 14349.66
A12: 2 | C12: FUNDAÇÕES | E12: =(D13/D27) -> 0.11541166 | F12: 1
D13: =(PLANILHA!N24) -> 16949.99 | F13: =(F12*D13) -> 16949.99
A14: 3 | C14: SUPERESTRUTURA | E14: =(D15/D27) -> 0.16831258 | G14: 0.3 | H14: 0.3 | I14: 0.4
D15: =(PLANILHA!N36) -> 24719.31 | G15: =(G14*D15) -> 7415.793 | H15: =(H14*D15) -> 7415.793 | I15: =(I14*D15) -> 9887.724
A16: 4 | C16: =(PLANILHA!C38) -> ALVENARIAS | E16: =(D17/D27) -> 0.19558393 | G16: 0.3 | H16: 0.3 | I16: 0.4
D17: =(PLANILHA!N45) -> 28724.53 | G17: =(G16*D17) -> 8617.359 | H17: =(H16*D17) -> 8617.359 | I17: =(I16*D17) -> 11489.812
A18: 5 | C18: =(PLANILHA!C47) -> REVESTIMENTOS | E18: =(D19/D27) -> 0.13860152 | G18: 0.3 | H18: 0.3 | I18: 0.4
D19: =(PLANILHA!N52) -> 20355.78 | G19: =(G18*D19) -> 6106.734 | H19: =(H18*D19) -> 6106.734 | I19: =(I18*D19) -> 8142.312
A20: 6 | C20: =(PLANILHA!C54) -> PISOS | E20: =(D21/D27) -> 0.19759073 | H20: 0.5 | I20: 0.5
D21: =(PLANILHA!N62) -> 29019.26 | H21: =(H20*D21) -> 14509.63 | I21: =(I20*D21) -> 14509.63
A22: 7 | C22: =(PLANILHA!C64) -> PINTURAS | E22: =(D23/D27) -> 0.069329561 | I22: 1
D23: =(PLANILHA!N70) -> 10182.12 | I23: =(I22*D23) -> 10182.12
A24: 8 | C24: =(PLANILHA!C72) -> SERVIÇOS FINAIS | E24: =(D25/D27) -> 0.017463871 | I24: 1
D25: =(PLANILHA!N76) -> 2564.84 | I25: =(I24*D25) -> 2564.84
E26: =(E10+E12+E14+E16+E18+E20+E22+E24) -> 1 | F26: =(F27/D27) -> 0.2131178 | G26: =(G27/D27) -> 0.15074941 | H26: =(H27/D27) -> 0.24954478 | I26: =(I27/D27) -> 0.38658801 | M26: =(F26+G26+H26+I26) -> 1
A27: TOTAL GERAL | D27: =(D11+D13+D15+D17+D19+D21+D23+D25) -> 146865.49 | F27: =(F11+F13+F15+F17+F19+F21+F23+F25) -> 31299.65 | G27: =(G11+G13+G15+G17+G19+G21+G23+G25) -> 22139.886 | H27: =(H11+H13+H15+H17+H19+H21+H23+H25) -> 36649.516 | I27: =(I11+I13+I15+I17+I19+I21+I23+I25) -> 56776.438 | M27: =(F27+G27+H27+I27) -> 146865.49
C33: EDIONE SÍLVIA FERREIRA | G33: DANIEL FRANCO DA SILVEIRA
C34: CAU A 19.326-7 | G34: PREFEITO MUNICIPAL

Sheet BDI
B1: PREFEITURA MUNICIPAL DE SENADOR AMARAL
B2: AV. JOSÉ ALVES DE REZENDE, 34, LOT. ELISA BUENO
B3: CNPJ: 41.778.556/0001-90
A4: COMPOSIÇÃO DE BDI (ACORDÃO TCU Nº2223/2013 - CONSTRUÇÃO DE EDIFICIOS | H4: LIMITES
A5: RT. ORÇ.: EDIONE SILVIA FERREIRA- CAU A19.326-7 | H5: SEM DESONERAÇÃO
A6: ITENS COMPONENTES DO BDI | H6: 1º Quartil | I6: 1º Quartil | J6: 1º Quartil
A7: Despesas Indiretas e Lucro | G7: % | H7: % | I7: % | J7: %
A8: 1 | D8: Garantia + Seguro | G8: 0.8 | H8: 0.8 | I8: 0.8 | J8: 1
A9: 2 | D9: Risco | G9: 0.97 | H9: 0.97 | I9: 1.27 | J9: 1.27
A10: 3 | D10: Administração Central | G10: 3 | H10: 3 | I10: 4 | J10: 5.5
A11: Subtotal I = 1+((1+2+3)/100) | G11: =1+((G8+G9+G10)/100) -> 1.0477
A12: 4 | D12: Despesas Financeiras | G12: 0.59 | H12: 0.59 | I12: 1.23 | J12: 1.39
A13: Subtotal II = 1+(4/100) | G13: =1+(G12/100) -> 1.0059
A14: 5 | D14: Lucro | G14: 6.16 | H14: 6.16 | I14: 7.4 | J14: 8.96
A15: Subtotal III = 1+(5/100) | G15: =1+(G14/100) -> 1.0616
A16: Tributos Federais
A17: 6 | D17: Cofins | G17: 3 | H17: 3 | I17: 3 | J17: 3
A18: 7 | D18: Pis/Pasep | G18: 0.65 | H18: 0.65 | I18: 0.65 | J18: 0.65
A19: 8 | D19: IRPJ | H19: Não Incidente
A20: 9 | D20: CSLL | H20: Não Incidente
A21: Tributo Municipal
A22: 10 | D22: ISS | G22: 5 | H22: Conforme Legislação Municipal
A23: Subtotal IV = (6+7+8+9+10)100 | G23: =(G17+G18+G19+G20+G22)/100 -> 0.0865
A24: TOTAL DO BDI SEM A ALIQUOTA DO INSS | G24: =(((G11*G13*G15)/(1-G23))-1)*100 -> 22.474059 | H24: 20.34 | I24: 22.12 | J24: 25
B27: BDI FÓRMULA = | E27: (1+AC+R+G+S)(1+DF)(1+L) -1
E28: (1-I)
A29: ONDE
A30: G+S | B30: Garantia + Seguro
A31: R | B31: Risco
A32: AC | B32: Administração Central
A33: DF | B33: Despesas Financeiras
A34: L | B34: Lucro
A35: I | B35: Impostos
F36: SENADOR AMARAL, 15/04/2026
F41: ARQ. EDIONE SÍLVIA FERREIRA
F42: CAU A19.326-7
