Workbook

Sheet PLANILHA ORÇAMENTÁRIA
A2: TIMBRADO LICITANTE
A10: PLANILHA ORÇAMENTÁRIA DE CUSTOS
A12: CONTRATANTE: MUNICÍPIO DE SERRANOS-MG. | F12: FONTE DE RECURSOS: PATRIMÔNIO CULTURAL - FUNPAC E PINAB
A13: OBJETO: CONSTRUÇÃO DA COBERTURA DA CAPELA NOSSA SENHORA DO ROSÁRIO. | F13: FORMA DE EXECUÇÃO:
A14: LOCAL: PRAÇA DO ROSÁRIO, S/Nº, CENTRO, SERRANOS-MG. | F14: ( ) | G14: DIRETA | H14: ( X ) | I14: INDIRETA
A15: R.T.: CLIFFORD PETERLE REZENDE - ENGENHEIRO CIVIL - CREAMG Nº56.477/D.
A16: REFERÊNCIA: SICOR/SEINFRA SUL - JANEIRO/2026; E SINAPI MG MAIO/2026 - AMBAS SEM DESONERAÇÃO | F16: BDI = | I16: ='DEMONSTRATIVO DO BDI'!H11 -> 0.2408
A18: ITEM | B18: REFERÊNCIA | C18: CÓDIGO | D18: DESCRIÇÃO | E18: UNID. | F18: QUANT. | G18: PREÇO UNIT. SEM BDI | H18: PREÇO UNIT. C/ BDI | I18: TOTAL
A20: 1 | D20: SERVIÇOS PRELIMINARES | I20: =SUM(I21:I24) -> 1497.6
A21: 1.1 | B21: SINAPI | C21: 103689 | D21: FORNECIMENTO E INSTALAÇÃO DE PLACA DE OBRA COM CHAPA GALVANIZADA E ESTRUTURA DE MADEIRA. AF_03/2022_PS | E21: M2 | F21: ='MEMÓRIA DE CÁLCULO'!F21 -> 2.88 | G21: À CARGO DA CONTRATANTE | I21: 0
A22: 1.2 | B22: SICOR / SEINFRA | C22: ED-9076 | D22: FORNECIMENTO DE ANDAIME METÁLICO TUBULAR TIPO TORRE (LOCAÇÃO), INCLUSIVE RODÍZIOS, EXCLUSIVE MONTAGEM E DESMONTAGEM | E22: MxMÊS | F22: ='MEMÓRIA DE CÁLCULO'!F22 -> 48 | G22: 21.13 | H22: =ROUND(G22*$I$16+G22,2) -> 26.22 | I22: =ROUND(F22*H22,2) -> 1258.56
A23: 1.3 | B23: SICOR / SEINFRA | C23: ED-9076 | D23: MONTAGEM E DESMONTAGEM DE ANDAIME METÁLICO TUBULAR TIPO TORRE, EXCLUSIVE FORNECIMENTO DO ANDAIME | E23: M | F23: ='MEMÓRIA DE CÁLCULO'!F23 -> 16 | G23: 12.04 | H23: =ROUND(G23*$I$16+G23,2) -> 14.94 | I23: =ROUND(F23*H23,2) -> 239.04
A25: 2 | D25: SUPERESTRUTURA | I25: =SUM(I26:I30) -> 4169.89
A26: 2.1 | B26: SINAPI | C26: 92443 | D26: MONTAGEM E DESMONTAGEM DE FÔRMA DE PILARES RETANGULARES E ESTRUTURAS SIMILARES, PÉ-DIREITO SIMPLES, EM CHAPA DE MADEIRA COMPENSADA PLASTIFICADA, 18 UTILIZAÇÕES. AF_09/2020 | E26: M2 | F26: ='MEMÓRIA DE CÁLCULO'!F26 -> 24.14 | G26: 54.85 | H26: =ROUND(G26*$I$16+G26,2) -> 68.06 | I26: =ROUND(F26*H26,2) -> 1642.97
A27: 2.2 | B27: SINAPI | C27: 92759 | D27: ARMAÇÃO DE PILAR OU VIGA DE ESTRUTURA CONVENCIONAL DE CONCRETO ARMADO UTILIZANDO AÇO CA-60 DE 5,0 MM - MONTAGEM. AF_06/2022 | E27: KG | F27: ='MEMÓRIA DE CÁLCULO'!F27 -> 2.6 | G27: 13.75 | H27: =ROUND(G27*$I$16+G27,2) -> 17.06 | I27: =ROUND(F27*H27,2) -> 44.36
A28: 2.3 | B28: SINAPI | C28: 92762 | D28: ARMAÇÃO DE PILAR OU VIGA DE ESTRUTURA CONVENCIONAL DE CONCRETO ARMADO UTILIZANDO AÇO CA-50 DE 10,0 MM - MONTAGEM. AF_06/2022 | E28: KG | F28: ='MEMÓRIA DE CÁLCULO'!F28 -> 3.87 | G28: 9.81 | H28: =ROUND(G28*$I$16+G28,2) -> 12.17 | I28: =ROUND(F28*H28,2) -> 47.1
A29: 2.4 | B29: SINAPI | C29: 103688 | D29: CONCRETAGEM DE PILARES, FCK=25 MPA, COM USO DE JERICAS EM CREMALHEIRA - LANÇAMENTO, ADENSAMENTO E ACABAMENTO. AF_02/2022 | E29: M3 | F29: ='MEMÓRIA DE CÁLCULO'!F29 -> 2.17 | G29: 904.52 | H29: =ROUND(G29*$I$16+G29,2) -> 1122.33 | I29: =ROUND(F29*H29,2) -> 2435.46
A31: 3 | D31: ALVENARIA E VEDAÇÃO | I31: =SUM(I32:I34) -> 4452.22
A32: 3.1 | B32: SINAPI | C32: 103324 | D32: ALVENARIA DE VEDAÇÃO DE BLOCOS CERÂMICOS FURADOS NA VERTICAL DE 14X19X39 CM (ESPESSURA 14 CM) E ARGAMASSA DE ASSENTAMENTO COM PREPARO EM BETONEIRA. AF_12/2021 | E32: M2 | F32: ='MEMÓRIA DE CÁLCULO'!F32 -> 17.2 | G32: 91.64 | H32: =ROUND(G32*$I$16+G32,2) -> 113.71 | I32: =ROUND(F32*H32,2) -> 1955.81
A33: 3.2 | B33: SINAPI | C33: 105023 | D33: VERGA MOLDADA IN LOCO EM CONCRETO, ESPESSURA DE *15* CM. AF_03/2024 | E33: M | F33: ='MEMÓRIA DE CÁLCULO'!F33 -> 26.6 | G33: 75.64 | H33: =ROUND(G33*$I$16+G33,2) -> 93.85 | I33: =ROUND(F33*H33,2) -> 2496.41
A35: 4 | D35: COBERTURA | I35: =SUM(I36:I42) -> 78882.27
A36: 4.1 | B36: SINAPI | C36: 92590 | D36: FABRICAÇÃO E INSTALAÇÃO DE TESOURA INTEIRA EM AÇO, VÃO DE 7 M, PARA TELHA CERÂMICA OU DE CONCRETO, INCLUSO IÇAMENTO, EXCLUSIVE PINTURA. AF_10/2025 | E36: UN | F36: ='MEMÓRIA DE CÁLCULO'!F36 -> 3 | G36: 1381.11 | H36: =ROUND(G36*$I$16+G36,2) -> 1713.68 | I36: =ROUND(F36*H36,2) -> 5141.04
A37: 4.2 | B37: SINAPI | C37: 92594 | D37: FABRICAÇÃO E INSTALAÇÃO DE TESOURA INTEIRA EM AÇO, VÃO DE 9 M, PARA TELHA CERÂMICA OU DE CONCRETO, INCLUSO IÇAMENTO, EXCLUSIVE PINTURA. AF_10/2025 | E37: UN | F37: ='MEMÓRIA DE CÁLCULO'!F37 -> 4 | G37: 1864.67 | H37: =ROUND(G37*$I$16+G37,2) -> 2313.68 | I37: =ROUND(F37*H37,2) -> 9254.72
A38: 4.3 | B38: SINAPI | C38: 92569 | D38: TRAMA DE AÇO COMPOSTA POR RIPAS E CAIBROS PARA TELHADOS DE ATÉ 2 ÁGUAS PARA TELHA DE ENCAIXE DE CERÂMICA OU DE CONCRETO, INCLUSO TRANSPORTE VERTICAL, EXCLUSIVE PINTURA. AF_10/2025 | E38: M2 | F38: ='MEMÓRIA DE CÁLCULO'!F38 -> 265.12 | G38: 71.55 | H38: =ROUND(G38*$I$16+G38,2) -> 88.78 | I38: =ROUND(F38*H38,2) -> 23537.35
A39: 4.4 | B39: SINAPI | C39: 94226 | D39: SUBCOBERTURA COM MANTA PLÁSTICA REVESTIDA POR PELÍCULA DE ALUMÍNO, INCLUSO TRANSPORTE VERTICAL. AF_07/2019 | E39: M2 | F39: ='MEMÓRIA DE CÁLCULO'!F39 -> 265.12 | G39: 20.01 | H39: =ROUND(G39*$I$16+G39,2) -> 24.83 | I39: =ROUND(F39*H39,2) -> 6582.93
A40: 4.5 | B40: SINAPI | C40: 94201 | D40: TELHAMENTO COM TELHA CERÂMICA CAPA-CANAL, TIPO COLONIAL, COM ATÉ 2 ÁGUAS, INCLUSO TRANSPORTE VERTICAL. AF_07/2019 | E40: M2 | F40: ='MEMÓRIA DE CÁLCULO'!F40 -> 265.12 | G40: 97.48 | H40: =ROUND(G40*$I$16+G40,2) -> 120.95 | I40: =ROUND(F40*H40,2) -> 32066.26
A41: 4.6 | B41: SINAPI | C41: 94221 | D41: CUMEEIRA PARA TELHA DE CONCRETO EMBOÇADA COM ARGAMASSA TRAÇO 1:2:9 (CIMENTO, CAL E AREIA) PARA TELHADOS COM ATÉ 2 ÁGUAS, INCLUSO TRANSPORTE VERTICAL. AF_07/2019 | E41: M | F41: ='MEMÓRIA DE CÁLCULO'!F41 -> 32.67 | G41: 56.74 | H41: =ROUND(G41*$I$16+G41,2) -> 70.4 | I41: =ROUND(F41*H41,2) -> 2299.97
A43: 5 | D43: DRENAGEM PLUVIAL | I43: =SUM(I44:I47) -> 13159.11
A44: 5.1 | B44: SINAPI | C44: 94227 | D44: CALHA EM CHAPA DE AÇO GALVANIZADO NÚMERO 24, DESENVOLVIMENTO DE 33 CM, INCLUSO TRANSPORTE VERTICAL. AF_07/2019 | E44: M | F44: ='MEMÓRIA DE CÁLCULO'!F44 -> 56.3 | G44: 68.55 | H44: =ROUND(G44*$I$16+G44,2) -> 85.06 | I44: =ROUND(F44*H44,2) -> 4788.88
A45: 5.2 | B45: SINAPI | C45: 94231 | D45: RUFO EM CHAPA DE AÇO GALVANIZADO NÚMERO 24, CORTE DE 25 CM, INCLUSO TRANSPORTE VERTICAL. AF_07/2019 | E45: M | F45: ='MEMÓRIA DE CÁLCULO'!F45 -> 16.8 | G45: 54.96 | H45: =ROUND(G45*$I$16+G45,2) -> 68.19 | I45: =ROUND(F45*H45,2) -> 1145.59
A46: 5.3 | B46: SICOR / SEINFRA | C46: ED-28551 | D46: CONDUTOR DE ÁGUAS PLUVIAIS RETANGULAR EM AÇO GALVANIZADO, DIMENSÃO (43X85)MM, , ESP. 0,43MM (GSG-28), INCLUSIVE CONEXÕES E SUPORTES | E46: M | F46: ='MEMÓRIA DE CÁLCULO'!F46 -> 85.6 | G46: 68.02 | H46: =ROUND(G46*$I$16+G46,2) -> 84.4 | I46: =ROUND(F46*H46,2) -> 7224.64
D48: SUB-TOTAL | I48: =I20+I25+I31+I35+I43 -> 102161.09
A51: 6 | D51: ADMINISTRAÇÃO LOCAL | I51: =SUM(I52:I53) -> 2535.23
A52: 6.1 | D52: ADMINISTRAÇÃO LOCAL | E52: % | F52: 2 | G52: =ROUND(I48*F52%,2) -> 2043.22 | H52: =ROUND(G52*$I$16+G52,2) -> 2535.23 | I52: =H52 -> 2535.23
D55: TOTAL DA OBRA | I55: =I48+I51 -> 104696.32
A59: IMPORTANTE:
A65: DATA: | B65: XX/XX/2026
B71: XXXXXXXXXXXXX | E71: XXXXXXXXXXXXXXX
B72: ENGENHEIRO CIVIL - CREAMG NºXXXXXXXXXXXXX | E72: REPRESENTANTE LEGAL LICITANTE
B73: R. T. LICITANTE

Sheet MEMÓRIA DE CÁLCULO
A2: ='PLANILHA ORÇAMENTÁRIA'!A2 -> TIMBRADO LICITANTE
A10: MEMÓRIA DE CÁLCULO
A12: CONTRATANTE: MUNICÍPIO DE SERRANOS-MG. | F12: FONTE DE RECURSOS PRÓPRIOS - PATRIMÔNIO CULTURAL
A13: OBJETO: CONSTRUÇÃO DA COBERTURA DA CAPELA NOSSA SENHORA DO ROSÁRIO. | F13: FORMA DE EXECUÇÃO:
A14: LOCAL: PRAÇA DO ROSÁRIO, S/Nº, CENTRO, SERRANOS-MG. | F14: ( X ) | G14: INDIRETA
A15: R.T.: CLIFFORD PETERLE REZENDE - ENGENHEIRO CIVIL - CREAMG Nº56.477/D.
A16: REFERÊNCIA: SICOR/SEINFRA SUL - JANEIRO/2026; E SINAPI MG MAIO/2026 - AMBAS SEM DESONERAÇÃO | F16: BDI = | G16: ='DEMONSTRATIVO DO BDI'!H11 -> 0.2408
A18: ITEM | B18: REFERÊNCIA | C18: CÓDIGO | D18: DESCRIÇÃO | E18: UNID. | F18: QUANT. | G18: MEMÓRIA DE CÁLCULO
A20: 1 | D20: SERVIÇOS PRELIMINARES
A21: 1.1 | B21: SINAPI | C21: 103689 | D21: FORNECIMENTO E INSTALAÇÃO DE PLACA DE OBRA COM CHAPA GALVANIZADA E ESTRUTURA DE MADEIRA. AF_03/2022_PS | E21: M2 | F21: =ROUND(I21,2) -> 2.88 | G21: =1,2*2,4 | I21: =1.2*2.4 -> 2.88
A22: 1.2 | B22: SICOR / SEINFRA | C22: ED-9076 | D22: FORNECIMENTO DE ANDAIME METÁLICO TUBULAR TIPO TORRE (LOCAÇÃO), INCLUSIVE RODÍZIOS, EXCLUSIVE MONTAGEM E DESMONTAGEM | E22: MxMÊS | F22: =ROUND(I22,2) -> 48 | G22: =(2*8)*3 | I22: =(2*1*8)*3 -> 48 | K22: DIMENSÕES ADOTADAS PARA O ANDAIME = C=2,000 X L=1,00
A23: 1.3 | B23: SICOR / SEINFRA | C23: ED-9076 | D23: MONTAGEM E DESMONTAGEM DE ANDAIME METÁLICO TUBULAR TIPO TORRE, EXCLUSIVE FORNECIMENTO DO ANDAIME | E23: M | F23: =ROUND(I23,2) -> 16 | G23: =(2*8) | I23: =(2*1*8) -> 16
A25: 2 | D25: SUPERESTRUTURA
A26: 2.1 | B26: SINAPI | C26: 92443 | D26: MONTAGEM E DESMONTAGEM DE FÔRMA DE PILARES RETANGULARES E ESTRUTURAS SIMILARES, PÉ-DIREITO SIMPLES, EM CHAPA DE MADEIRA COMPENSADA PLASTIFICADA, 18 UTILIZAÇÕES. AF_09/2020 | E26: M2 | F26: =ROUND(I26,2) -> 24.14 | G26: =(2*2,90*((0,43*2)+(0,38*2)))+(4*2,10*((0,43*2)+(0,38*2)))+(1*2*1,10*(0,25*2)) | I26: =(2*2.9*((0.43*2)+(0.38*2)))+(4*2.105*((0.43*2)+(0.38*2)))+(1*2*1.1*(0.25*2)) -> 24.1364
A27: 2.2 | B27: SINAPI | C27: 92759 | D27: ARMAÇÃO DE PILAR OU VIGA DE ESTRUTURA CONVENCIONAL DE CONCRETO ARMADO UTILIZANDO AÇO CA-60 DE 5,0 MM - MONTAGEM. AF_06/2022 | E27: KG | F27: =ROUND(I27,2) -> 2.6 | G27: =((1*2*1,10)/0,12)*0,86*0,15*1,10 | I27: =((1*2*1.1)/0.12)*0.86*0.15*1.1 -> 2.6015
B28: SINAPI | C28: 92762 | D28: ARMAÇÃO DE PILAR OU VIGA DE ESTRUTURA CONVENCIONAL DE CONCRETO ARMADO UTILIZANDO AÇO CA-50 DE 10,0 MM - MONTAGEM. AF_06/2022 | E28: KG | F28: =ROUND(I28,2) -> 3.87 | G28: =((1*2*1,10*4))*0,40*1,10 | I28: =((1*2*1.1*4))*0.4*1.1 -> 3.872
A29: 2.3 | B29: SINAPI | C29: 103688 | D29: CONCRETAGEM DE PILARES, FCK=25 MPA, COM USO DE JERICAS EM CREMALHEIRA - LANÇAMENTO, ADENSAMENTO E ACABAMENTO. AF_02/2022 | E29: M3 | F29: =ROUND(I29,2) -> 2.17 | G29: =(2*2,9*(0,38*0,38))+(4*2,10*(0,38*0,38))+(1*2*1,10*(0,20*0,28)) | I29: =(2*2.9*(0.38*0.38))+(4*2.1*(0.38*0.38))+(1*2*1.1*(0.2*0.28)) -> 2.17368
A31: 3 | D31: ALVENARIA E VEDAÇÃO
A32: 3.1 | B32: SINAPI | C32: 103324 | D32: ALVENARIA DE VEDAÇÃO DE BLOCOS CERÂMICOS FURADOS NA VERTICAL DE 14X19X39 CM (ESPESSURA 14 CM) E ARGAMASSA DE ASSENTAMENTO COM PREPARO EM BETONEIRA. AF_12/2021 | E32: M2 | F32: =ROUND(I32,2) -> 17.2 | G32: =ALVENARIA DUPLA=2*((8,60*2,00)/2) | I32: =2*((8.6*2)/2) -> 17.2
A33: 3.2 | B33: SINAPI | C33: 105023 | D33: VERGA MOLDADA IN LOCO EM CONCRETO, ESPESSURA DE *15* CM. AF_03/2024 | E33: M | F33: =ROUND(I33,2) -> 26.6 | G33: =EMPENAS =(4,75*2*2)+(3,80*2) | I33: =(4.75*2*2)+(3.8*2) -> 26.6
A35: 4 | D35: COBERTURA
A36: 4.1 | B36: SINAPI | C36: 92590 | D36: FABRICAÇÃO E INSTALAÇÃO DE TESOURA INTEIRA EM AÇO, VÃO DE 7 M, PARA TELHA CERÂMICA OU DE CONCRETO, INCLUSO IÇAMENTO, EXCLUSIVE PINTURA. AF_10/2025 | E36: UN | F36: =ROUND(I36,2) -> 3 | G36: LEVANTAMENTO EM PROJETO | I36: 3
A37: 4.2 | B37: SINAPI | C37: 92594 | D37: FABRICAÇÃO E INSTALAÇÃO DE TESOURA INTEIRA EM AÇO, VÃO DE 9 M, PARA TELHA CERÂMICA OU DE CONCRETO, INCLUSO IÇAMENTO, EXCLUSIVE PINTURA. AF_10/2025 | E37: UN | F37: =ROUND(I37,2) -> 4 | G37: LEVANTAMENTO EM PROJETO | I37: 4
A38: 4.3 | B38: SINAPI | C38: 92569 | D38: TRAMA DE AÇO COMPOSTA POR RIPAS E CAIBROS PARA TELHADOS DE ATÉ 2 ÁGUAS PARA TELHA DE ENCAIXE DE CERÂMICA OU DE CONCRETO, INCLUSO TRANSPORTE VERTICAL, EXCLUSIVE PINTURA. AF_10/2025 | E38: M2 | F38: =ROUND(I38,2) -> 265.12 | G38: =(15,9*10,4)+(11,6*8,6) | I38: =(15.9*10.4)+(11.6*8.6) -> 265.12
A39: 4.4 | B39: SINAPI | C39: 94226 | D39: SUBCOBERTURA COM MANTA PLÁSTICA REVESTIDA POR PELÍCULA DE ALUMÍNO, INCLUSO TRANSPORTE VERTICAL. AF_07/2019 | E39: M2 | F39: =ROUND(I39,2) -> 265.12 | G39: =ITEM 4.3 | I39: =I38 -> 265.12
A40: 4.5 | B40: SINAPI | C40: 94201 | D40: TELHAMENTO COM TELHA CERÂMICA CAPA-CANAL, TIPO COLONIAL, COM ATÉ 2 ÁGUAS, INCLUSO TRANSPORTE VERTICAL. AF_07/2019 | E40: M2 | F40: =ROUND(I40,2) -> 265.12 | G40: =ITEM 4.3 | I40: =I38 -> 265.12
A41: 4.6 | B41: SINAPI | C41: 94221 | D41: CUMEEIRA PARA TELHA DE CONCRETO EMBOÇADA COM ARGAMASSA TRAÇO 1:2:9 (CIMENTO, CAL E AREIA) PARA TELHADOS COM ATÉ 2 ÁGUAS, INCLUSO TRANSPORTE VERTICAL. AF_07/2019 | E41: M | F41: =ROUND(I41,2) -> 32.67 | G41: =(16,55+11,6)+FACHADA PRINCIPAL=(2*5,65*0,4) | I41: =(16.55+11.6)+(2*5.65*0.4) -> 32.67
A43: 5 | D43: DRENAGEM PLUIVAL
A44: 5.1 | B44: SINAPI | C44: 94227 | D44: CALHA EM CHAPA DE AÇO GALVANIZADO NÚMERO 24, DESENVOLVIMENTO DE 33 CM, INCLUSO TRANSPORTE VERTICAL. AF_07/2019 | E44: M | F44: =ROUND(I44,2) -> 56.3 | G44: =(16,55+11,6)*2 | I44: =(16.55+11.6)*2 -> 56.3
A45: 5.2 | B45: SINAPI | C45: 94231 | D45: RUFO EM CHAPA DE AÇO GALVANIZADO NÚMERO 24, CORTE DE 25 CM, INCLUSO TRANSPORTE VERTICAL. AF_07/2019 | E45: M | F45: =ROUND(I45,2) -> 16.8 | G45: =9,4+7,4 | I45: =9.4+7.4 -> 16.8
A46: 5.3 | B46: SICOR/SEINFRA | C46: ED-28551 | D46: CONDUTOR DE ÁGUAS PLUVIAIS RETANGULAR EM AÇO GALVANIZADO, DIMENSÃO (43X85)MM, , ESP. 0,43MM (GSG-28), INCLUSIVE CONEXÕES E SUPORTES | E46: M | F46: =ROUND(I46,2) -> 85.6 | G46: =(2*(0,8+0,8+7,8))+(2*(0,8+0,5+7,8))+(2*(0,8+0,35+7,8))+(2*(0,8+0,35+6,6))+(2*(0,8+0,2+6,6)) | I46: =(2*(0.8+0.8+7.8))+(2*(0.8+0.5+7.8))+(2*(0.8+0.35+7.8))+(2*(0.8+0.35+6.6))+(2*(0.8+0.2+6.6)) -> 85.6
A50: IMPORTANTE:
A56: DATA: | B56: ='PLANILHA ORÇAMENTÁRIA'!B65 -> XX/XX/2026
B62: ='PLANILHA ORÇAMENTÁRIA'!B71 -> XXXXXXXXXXXXX | E62: ='PLANILHA ORÇAMENTÁRIA'!E71 -> XXXXXXXXXXXXXXX
B63: ='PLANILHA ORÇAMENTÁRIA'!B72 -> ENGENHEIRO CIVIL - CREAMG NºXXXXXXXXXXXXX | E63: ='PLANILHA ORÇAMENTÁRIA'!E72 -> REPRESENTANTE LEGAL LICITANTE
B64: ='PLANILHA ORÇAMENTÁRIA'!B73 -> R. T. LICITANTE

Sheet DEMONSTRATIVO DO BDI
A2: ='PLANILHA ORÇAMENTÁRIA'!A2 -> TIMBRADO LICITANTE
A5: DEMONSTRATIVO DO BDI - SEM DESONERAÇÃO
A7: ='PLANILHA ORÇAMENTÁRIA'!A12 -> CONTRATANTE: MUNICÍPIO DE SERRANOS-MG. | E7: ='PLANILHA ORÇAMENTÁRIA'!F12 -> FONTE DE RECURSOS: PATRIMÔNIO CULTURAL - FUNPAC E PINAB
A8: ='PLANILHA ORÇAMENTÁRIA'!A13 -> OBJETO: CONSTRUÇÃO DA COBERTURA DA CAPELA NOSSA SENHORA DO ROSÁRIO. | E8: FORMA DE EXECUÇÃO:
A9: ='PLANILHA ORÇAMENTÁRIA'!A14 -> LOCAL: PRAÇA DO ROSÁRIO, S/Nº, CENTRO, SERRANOS-MG. | E9: ( ) | F9: DIRETA | G9: ( X ) | H9: INDIRETA
A10: ='PLANILHA ORÇAMENTÁRIA'!A15 -> R.T.: CLIFFORD PETERLE REZENDE - ENGENHEIRO CIVIL - CREAMG Nº56.477/D.
A11: ='PLANILHA ORÇAMENTÁRIA'!A16 -> REFERÊNCIA: SICOR/SEINFRA SUL - JANEIRO/2026; E SINAPI MG MAIO/2026 - AMBAS SEM DESONERAÇÃO | E11: BDI = | H11: 0.2408
A13: BDI (CONFORME ACÓRDÃO Nº 2622/13 e LEI Nº 13.161 DE 31/08/15)
A16: CONSTRUÇÃO DE EDIFÍCIOS
C19: (ISS = 2,00%) | D19: MATERIAL | E19: INCIDÊNCIA
A21: CUSTO DIRETO | B21: CD | C21: 1 | D21: 1
A22: ADMINISTRAÇÃO CENTRAL | B22: AC | C22: 0.055 | D22: 0.0342 | E22: CD
A23: LUCRO BRUTO | B23: L | C23: 0.075 | D23: 0.0494 | E23: CD
A24: DESPESAS FINANCEIRAS | B24: DF | C24: 0.0105 | D24: 0.0105 | E24: CD
A25: SEGUROS, GARANTIAS E RISCO | C25: 0.0227 | D25: 0.0129 | E25: CD
A26: SEGUROS + GARANTIAS | B26: S | C26: 0.01 | D26: 0.0053 | E26: CD
A27: RISCO(*) | B27: R | C27: 0.0127 | D27: 0.0076 | E27: CD
A28: TRIBUTOS | B28: I | C28: =SUM(C29:C32) -> 0.0565 | D28: =SUM(D29:D32) -> 0.0365 | E28: PV
A29: ISS | B29: ISS | C29: 0.02 | D29: 0 | E29: PV
A30: PIS | B30: PIS | C30: 0.0065 | D30: 0.0065 | E30: PV
A31: COFINS | B31: COFINS | C31: 0.03 | D31: 0.03 | E31: PV
A32: CPRB | B32: INSS | C32: 0 | D32: 0 | E32: PV
A34: FÓRMULA DO BDI | B34: BDI = | C34: (1 + (AC + S + G + R)) x (1 + DF) x (1 + L)
C35: (1 - (I + CPRB))
B37: BDI(NUMERADOR) | C37: =(1+(C22+C25))*(1+C24)*(1+C23)-1 -> 0.17069204 | D37: =(1+(D22+D25))*(1+D24)*(1+D23)-1 -> 0.11036442
B39: BDI(DENOMINADOR) | C39: =(1-(C28+C32)) -> 0.9435 | D39: =(1-(D28+D32)) -> 0.9635
B40: BDI = | C40: =(1+C37)/C39-1 -> 0.24079707 | D40: =(1+D37)/D39-1 -> 0.15242804
A45: DATA: | B45: ='PLANILHA ORÇAMENTÁRIA'!B65 -> XX/XX/2026
A51: ='PLANILHA ORÇAMENTÁRIA'!B71 -> XXXXXXXXXXXXX | D51: ='PLANILHA ORÇAMENTÁRIA'!E71 -> XXXXXXXXXXXXXXX
A52: ='PLANILHA ORÇAMENTÁRIA'!B72 -> ENGENHEIRO CIVIL - CREAMG NºXXXXXXXXXXXXX | D52: ='PLANILHA ORÇAMENTÁRIA'!E72 -> REPRESENTANTE LEGAL LICITANTE
A53: ='PLANILHA ORÇAMENTÁRIA'!B73 -> R. T. LICITANTE

Sheet CRONOGRAMA FÍSICO-FINANCEIRO
A1: ='PLANILHA ORÇAMENTÁRIA'!A2 -> TIMBRADO LICITANTE
A3: CRONOGRAMA FÍSICO-FINANCEIRO
A5: ='PLANILHA ORÇAMENTÁRIA'!A12 -> CONTRATANTE: MUNICÍPIO DE SERRANOS-MG. | F5: VALOR DO INVESTIMENTO: | H5: =E49 -> 104696.32 | M5: ='PLANILHA ORÇAMENTÁRIA'!F12 -> FONTE DE RECURSOS: PATRIMÔNIO CULTURAL - FUNPAC E PINAB
A6: ='PLANILHA ORÇAMENTÁRIA'!A13 -> OBJETO: CONSTRUÇÃO DA COBERTURA DA CAPELA NOSSA SENHORA DO ROSÁRIO. | F6: ='PLANILHA ORÇAMENTÁRIA'!A14 -> LOCAL: PRAÇA DO ROSÁRIO, S/Nº, CENTRO, SERRANOS-MG. | M6: PRAZO DE EXECUÇÃO: 03 (TRÊS) MESES
A7: ITEM | B7: CÓD. | C7: DESCRIÇÃO | D7: FÍSICO/ FINANCEIRO | E7: TOTAL ETAPAS | F7: 1º MÊS | G7: 2º MÊS | H7: 3º MÊS | I7: 4º MÊS | J7: 5º MÊS | K7: 6º MÊS | L7: 7º MÊS | M7: 8º MÊS | N7: 9º MÊS | O7: 10º MÊS | P7: 11º MÊS | Q7: 12° MÊS
D8: Físico % | E8: =E9*100%/E49 -> 0 | S8: =SUM(F8:R8) -> 0
D9: Financeiro | E9: 0 | F9: =F8*$E$9 -> 0 | G9: =G8*$E$9 -> 0 | H9: =H8*$E$9 -> 0 | I9: =I8*$E$9 -> 0 | J9: =J8*$E$9 -> 0 | K9: =K8*$E$9 -> 0 | L9: =L8*$E$9 -> 0 | M9: =M8*$E$9 -> 0 | ... Q9: =Q8*$E$9 -> 0 | S9: =SUM(F9:R9) -> 0
A10: ='PLANILHA ORÇAMENTÁRIA'!A20 -> 1 | B10: - | C10: ='PLANILHA ORÇAMENTÁRIA'!D20 -> SERVIÇOS PRELIMINARES | D10: Físico % | E10: =E11*100%/E49 -> 0.014304228 | F10: 1 | S10: =SUM(F10:R10) -> 1
D11: Financeiro | E11: ='PLANILHA ORÇAMENTÁRIA'!I20 -> 1497.6 | F11: =F10*$E$11 -> 1497.6 | G11: =G10*$E$11 -> 0 | H11: =H10*$E$11 -> 0 | I11: =I10*$E$11 -> 0 | J11: =J10*$E$11 -> 0 | K11: =K10*$E$11 -> 0 | L11: =L10*$E$11 -> 0 | M11: =M10*$E$11 -> 0 | ... Q11: =Q10*$E$11 -> 0 | S11: =SUM(F11:R11) -> 1497.6
A12: ='PLANILHA ORÇAMENTÁRIA'!A25 -> 2 | B12: - | C12: ='PLANILHA ORÇAMENTÁRIA'!D25 -> SUPERESTRUTURA | D12: Físico % | E12: =E13*100%/E49 -> 0.039828429 | F12: 1 | S12: =SUM(F12:R12) -> 1
D13: Financeiro | E13: ='PLANILHA ORÇAMENTÁRIA'!I25 -> 4169.89 | F13: =F12*$E$13 -> 4169.89 | G13: =G12*$E$13 -> 0 | H13: =H12*$E$13 -> 0 | I13: =I12*$E$13 -> 0 | J13: =J12*$E$13 -> 0 | K13: =K12*$E$13 -> 0 | L13: =L12*$E$13 -> 0 | M13: =M12*$E$13 -> 0 | ... Q13: =Q12*$E$13 -> 0 | S13: =SUM(F13:R13) -> 4169.89
A14: ='PLANILHA ORÇAMENTÁRIA'!A31 -> 3 | B14: - | C14: ='PLANILHA ORÇAMENTÁRIA'!D31 -> ALVENARIA E VEDAÇÃO | D14: Físico % | E14: =E15*100%/E49 -> 0.042525086 | F14: 1 | S14: =SUM(F14:R14) -> 1
D15: Financeiro | E15: ='PLANILHA ORÇAMENTÁRIA'!I31 -> 4452.22 | F15: =F14*$E$15 -> 4452.22 | G15: =G14*$E$15 -> 0 | H15: =H14*$E$15 -> 0 | I15: =I14*$E$15 -> 0 | J15: =J14*$E$15 -> 0 | K15: =K14*$E$15 -> 0 | L15: =L14*$E$15 -> 0 | M15: =M14*$E$15 -> 0 | ... Q15: =Q14*$E$15 -> 0 | S15: =SUM(F15:R15) -> 4452.22
A16: ='PLANILHA ORÇAMENTÁRIA'!A35 -> 4 | B16: - | C16: ='PLANILHA ORÇAMENTÁRIA'!D35 -> COBERTURA | D16: Físico % | E16: =E17*100%/E49 -> 0.7534388 | G16: 0.5 | H16: 0.5 | S16: =SUM(F16:R16) -> 1
D17: Financeiro | E17: ='PLANILHA ORÇAMENTÁRIA'!I35 -> 78882.27 | F17: =F16*$E$17 -> 0 | G17: =G16*$E$17 -> 39441.135 | H17: =H16*$E$17 -> 39441.135 | I17: =I16*$E$17 -> 0 | J17: =J16*$E$17 -> 0 | K17: =K16*$E$17 -> 0 | L17: =L16*$E$17 -> 0 | M17: =M16*$E$17 -> 0 | ... Q17: =Q16*$E$17 -> 0 | S17: =SUM(F17:R17) -> 78882.27
A18: ='PLANILHA ORÇAMENTÁRIA'!A43 -> 5 | B18: - | C18: ='PLANILHA ORÇAMENTÁRIA'!D43 -> DRENAGEM PLUVIAL | D18: Físico % | E18: =E19*100%/E49 -> 0.12568837 | H18: 1 | S18: =SUM(F18:R18) -> 1
D19: Financeiro | E19: ='PLANILHA ORÇAMENTÁRIA'!I43 -> 13159.11 | F19: =F18*$E$19 -> 0 | G19: =G18*$E$19 -> 0 | H19: =H18*$E$19 -> 13159.11 | I19: =I18*$E$19 -> 0 | J19: =J18*$E$19 -> 0 | K19: =K18*$E$19 -> 0 | L19: =L18*$E$19 -> 0 | M19: =M18*$E$19 -> 0 | ... Q19: =Q18*$E$19 -> 0 | S19: =SUM(F19:R19) -> 13159.11
A20: ='PLANILHA ORÇAMENTÁRIA'!A51 -> 6 | B20: - | C20: ='PLANILHA ORÇAMENTÁRIA'!D51 -> ADMINISTRAÇÃO LOCAL | D20: Físico % | E20: =E21*100%/E49 -> 0.024215082 | F20: 0.21 | G20: 0.33 | H20: 0.46 | S20: =SUM(F20:R20) -> 1
D21: Financeiro | E21: ='PLANILHA ORÇAMENTÁRIA'!I51 -> 2535.23 | F21: =F20*$E$21 -> 532.3983 | G21: =G20*$E$21 -> 836.6259 | H21: =H20*$E$21 -> 1166.2058 | I21: =I20*$E$21 -> 0 | J21: =J20*$E$21 -> 0 | K21: =K20*$E$21 -> 0 | L21: =L20*$E$21 -> 0 | M21: =M20*$E$21 -> 0 | ... Q21: =Q20*$E$21 -> 0 | S21: =SUM(F21:R21) -> 2535.23
D22: Físico % | E22: =E23*100%/E49 -> 0 | S22: =SUM(F22:R22) -> 0
D23: Financeiro | F23: =F22*$E$23 -> 0 | G23: =G22*$E$23 -> 0 | H23: =H22*$E$23 -> 0 | I23: =I22*$E$23 -> 0 | J23: =J22*$E$23 -> 0 | K23: =K22*$E$23 -> 0 | L23: =L22*$E$23 -> 0 | M23: =M22*$E$23 -> 0 | ... Q23: =Q22*$E$23 -> 0 | S23: =SUM(F23:R23) -> 0
D24: Físico % | E24: =E25*100%/E49 -> 0 | S24: =SUM(F24:R24) -> 0
D25: Financeiro | F25: =F24*$E$25 -> 0 | G25: =G24*$E$25 -> 0 | H25: =H24*$E$25 -> 0 | I25: =I24*$E$25 -> 0 | J25: =J24*$E$25 -> 0 | K25: =K24*$E$25 -> 0 | L25: =L24*$E$25 -> 0 | M25: =M24*$E$25 -> 0 | ... Q25: =Q24*$E$25 -> 0 | S25: =SUM(F25:R25) -> 0
D26: Físico % | E26: =E27*100%/E49 -> 0 | S26: =SUM(F26:R26) -> 0
D27: Financeiro | F27: =F26*$E$27 -> 0 | G27: =G26*$E$27 -> 0 | H27: =H26*$E$27 -> 0 | I27: =I26*$E$27 -> 0 | J27: =J26*$E$27 -> 0 | K27: =K26*$E$27 -> 0 | L27: =L26*$E$27 -> 0 | M27: =M26*$E$27 -> 0 | ... Q27: =Q26*$E$27 -> 0 | S27: =SUM(F27:R27) -> 0
D28: Físico % | E28: =E29*100%/E49 -> 0 | S28: =SUM(F28:R28) -> 0
D29: Financeiro | F29: =F28*$E$29 -> 0 | G29: =G28*$E$29 -> 0 | H29: =H28*$E$29 -> 0 | I29: =I28*$E$29 -> 0 | J29: =J28*$E$29 -> 0 | K29: =K28*$E$29 -> 0 | L29: =L28*$E$29 -> 0 | M29: =M28*$E$29 -> 0 | ... Q29: =Q28*$E$29 -> 0 | S29: =SUM(F29:R29) -> 0
D30: Físico % | E30: =E31*100%/E49 -> 0 | S30: =SUM(F30:R30) -> 0
D31: Financeiro | F31: =F30*$E$31 -> 0 | G31: =G30*$E$31 -> 0 | H31: =H30*$E$31 -> 0 | I31: =I30*$E$31 -> 0 | J31: =J30*$E$31 -> 0 | K31: =K30*$E$31 -> 0 | L31: =L30*$E$31 -> 0 | M31: =M30*$E$31 -> 0 | ... Q31: =Q30*$E$31 -> 0 | S31: =SUM(F31:R31) -> 0
D32: Físico % | E32: =E33*100%/E49 -> 0 | S32: =SUM(F32:R32) -> 0
D33: Financeiro | F33: =F32*$E$33 -> 0 | G33: =G32*$E$33 -> 0 | H33: =H32*$E$33 -> 0 | I33: =I32*$E$33 -> 0 | J33: =J32*$E$33 -> 0 | K33: =K32*$E$33 -> 0 | L33: =L32*$E$33 -> 0 | M33: =M32*$E$33 -> 0 | ... Q33: =Q32*$E$33 -> 0 | S33: =SUM(F33:R33) -> 0
D34: Físico % | E34: =E35*100%/E49 -> 0 | S34: =SUM(F34:R34) -> 0
D35: Financeiro | F35: =F34*$E$35 -> 0 | G35: =G34*$E$35 -> 0 | H35: =H34*$E$35 -> 0 | I35: =I34*$E$35 -> 0 | J35: =J34*$E$35 -> 0 | K35: =K34*$E$35 -> 0 | L35: =L34*$E$35 -> 0 | M35: =M34*$E$35 -> 0 | ... Q35: =Q34*$E$35 -> 0 | S35: =SUM(F35:R35) -> 0
D36: Físico % | E36: =E37*100%/E49 -> 0 | S36: =SUM(F36:R36) -> 0
D37: Financeiro | F37: =F36*$E$37 -> 0 | G37: =G36*$E$37 -> 0 | H37: =H36*$E$37 -> 0 | I37: =I36*$E$37 -> 0 | J37: =J36*$E$37 -> 0 | K37: =K36*$E$37 -> 0 | L37: =L36*$E$37 -> 0 | M37: =M36*$E$37 -> 0 | ... Q37: =Q36*$E$37 -> 0 | S37: =SUM(F37:R37) -> 0
D38: Físico % | E38: =E39*100%/E49 -> 0 | S38: =SUM(F38:R38) -> 0
D39: Financeiro | F39: =F38*$E$39 -> 0 | G39: =G38*$E$39 -> 0 | H39: =H38*$E$39 -> 0 | I39: =I38*$E$39 -> 0 | J39: =J38*$E$39 -> 0 | K39: =K38*$E$39 -> 0 | L39: =L38*$E$39 -> 0 | M39: =M38*$E$39 -> 0 | ... Q39: =Q38*$E$39 -> 0 | S39: =SUM(F39:R39) -> 0
D40: Físico % | E40: =E41*100%/E49 -> 0 | S40: =SUM(F40:R40) -> 0
D41: Financeiro | F41: =F40*$E$41 -> 0 | G41: =G40*$E$41 -> 0 | H41: =H40*$E$41 -> 0 | I41: =I40*$E$41 -> 0 | J41: =J40*$E$41 -> 0 | K41: =K40*$E$41 -> 0 | L41: =L40*$E$41 -> 0 | M41: =M40*$E$41 -> 0 | ... Q41: =Q40*$E$41 -> 0 | S41: =SUM(F41:R41) -> 0
D42: Físico % | E42: =E43*100%/E49 -> 0 | S42: =SUM(F42:R42) -> 0
...
